FILENAME: O4411212.SWS.1077632.tif
QUADRANGLE_NAME: ROCK ISLAND RANCH
QUADRANT: SW
WEST_LONGITUDE: -112 37 30.00000
EAST_LONGITUDE: -112 33 45.00000
NORTH_LATITUDE: 44 48 45.00000
SOUTH_LATITUDE: 44 45 0.00000
PRODUCTION_DATE: 2000 4 19
RASTER_ORDER: LEFT_RIGHT/TOP_BOTTOM
BAND_ORGANIZATION: SINGLE FILE
BAND_CONTENT: BLACK&WHITE
BAND_CONTENT: UNDEFINED
BAND_CONTENT: UNDEFINED
BITS_PER_PIXEL: 8
SAMPLES_AND_LINES: 5750 7651
HORIZONTAL_DATUM: NAD83
HORIZONTAL_COORDINATE_SYSTEM: UTM
COORDINATE_ZONE: 12
HORIZONTAL_UNITS: METERS
HORIZONTAL_RESOLUTION: 1.00000
SECONDARY_HORIZONTAL_DATUM: NAD27
XY_ORIGIN: 371001.00000 4963707.00000
SECONDARY_XY_ORIGIN: 371064.18300 4963498.07000
NATION: US
NATION: "SCIENCE
STATE: MT
NW_QUAD_CORNER_XY: 371507.97800 4963406.25400
NE_QUAD_CORNER_XY: 376449.98900 4963309.34300
SE_QUAD_CORNERY_XY: 376316.58900 4956366.62800
SW_QUAD_CORNER_XY: 371369.23900 4956463.53700
SECONDARY_NW_QUAD_XY: 371504.20100 4963189.27100
SECONDARY_NE_QUAD_XY: 376446.35700 4963092.35700
SECONDARY_SE_QUAD_XY: 376312.95900 4956149.70100
SECONDARY_SW_QUAD_XY: 371365.46400 4956246.61300
RMSE_XY: 1.20000
IMAGE_SOURCE: BLACK AND WHITE FILM
SOURCE_IMAGE_ID: NAPP 8382 118
SOURCE_IMAGE_DATE: 1995 08 01
SOURCE_DEM_DATE: 1964 00 00
AGENCY: WESTERN MAPPING CENTER (WMC)
PRODUCER: UNDEFINED
PRODUCTION_SYSTEM: GIS/MAGIC
COMPRESSION: UNDEFINED
STANDARD_VERSION: 1996 12
METADATA_DATE: 2000 05 26
DATA_FILE_SIZE: 43999000
BYTE_COUNT: 5750
