FILENAME: O4411211.SES.1077574.tif
QUADRANGLE_NAME: BRIGGS RANCH
QUADRANT: SE
WEST_LONGITUDE: -112 41 15.00000
EAST_LONGITUDE: -112 37 30.00000
NORTH_LATITUDE: 44 48 45.00000
SOUTH_LATITUDE: 44 45 0.00000
PRODUCTION_DATE: 2000 5 9
RASTER_ORDER: LEFT_RIGHT/TOP_BOTTOM
BAND_ORGANIZATION: SINGLE FILE
BAND_CONTENT: BLACK&WHITE
BAND_CONTENT: UNDEFINED
BAND_CONTENT: UNDEFINED
BITS_PER_PIXEL: 8
SAMPLES_AND_LINES: 5756 7654
HORIZONTAL_DATUM: NAD83
HORIZONTAL_COORDINATE_SYSTEM: UTM
COORDINATE_ZONE: 12
HORIZONTAL_UNITS: METERS
HORIZONTAL_RESOLUTION: 1.00000
SECONDARY_HORIZONTAL_DATUM: NAD27
XY_ORIGIN: 366053.00000 4963807.00000
SECONDARY_XY_ORIGIN: 366116.24600 4963597.93600
NATION: US
NATION: "SCIENCE
STATE: MT
NW_QUAD_CORNER_XY: 366565.96600 4963506.96700
NE_QUAD_CORNER_XY: 371507.97800 4963406.25400
SE_QUAD_CORNERY_XY: 371369.23900 4956463.53700
SW_QUAD_CORNER_XY: 366421.88800 4956564.24900
SECONDARY_NW_QUAD_XY: 366562.04400 4963289.98700
SECONDARY_NE_QUAD_XY: 371504.20100 4963189.27100
SECONDARY_SE_QUAD_XY: 371365.46400 4956246.61300
SECONDARY_SW_QUAD_XY: 366417.96700 4956347.32800
RMSE_XY: 1.50000
IMAGE_SOURCE: BLACK AND WHITE FILM
SOURCE_IMAGE_ID: NAPP 8382 006
SOURCE_IMAGE_DATE: 1995 08 01
SOURCE_IMAGE_ID: NAPP 8382 007
SOURCE_IMAGE_DATE: 1995 08 01
SOURCE_IMAGE_ID: NAPP 8382 119
SOURCE_IMAGE_DATE: 1995 08 01
SOURCE_IMAGE_ID: NAPP 8382 118
SOURCE_IMAGE_DATE: 1995 08 01
SOURCE_DEM_DATE: 1964 00 00
AGENCY: WESTERN MAPPING CENTER (WMC)
PRODUCER: UNDEFINED
PRODUCTION_SYSTEM: GIS/MAGIC
COMPRESSION: UNDEFINED
STANDARD_VERSION: 1996 12
METADATA_DATE: 2000 05 26
DATA_FILE_SIZE: 44062180
BYTE_COUNT: 5756
