FILENAME: O4411211.SWS.1077577.tif
QUADRANGLE_NAME: BRIGGS RANCH
QUADRANT: SW
WEST_LONGITUDE: -112 45 0.00000
EAST_LONGITUDE: -112 41 15.00000
NORTH_LATITUDE: 44 48 45.00000
SOUTH_LATITUDE: 44 45 0.00000
PRODUCTION_DATE: 2000 5 9
RASTER_ORDER: LEFT_RIGHT/TOP_BOTTOM
BAND_ORGANIZATION: SINGLE FILE
BAND_CONTENT: BLACK&WHITE
BAND_CONTENT: UNDEFINED
BAND_CONTENT: UNDEFINED
BITS_PER_PIXEL: 8
SAMPLES_AND_LINES: 5761 7658
HORIZONTAL_DATUM: NAD83
HORIZONTAL_COORDINATE_SYSTEM: UTM
COORDINATE_ZONE: 12
HORIZONTAL_UNITS: METERS
HORIZONTAL_RESOLUTION: 1.00000
SECONDARY_HORIZONTAL_DATUM: NAD27
XY_ORIGIN: 361106.00000 4963912.00000
SECONDARY_XY_ORIGIN: 361169.30900 4963702.80100
NATION: US
NATION: "SCIENCE
STATE: MT
NW_QUAD_CORNER_XY: 361623.95300 4963611.48300
NE_QUAD_CORNER_XY: 366565.96600 4963506.96700
SE_QUAD_CORNERY_XY: 366421.88800 4956564.24900
SW_QUAD_CORNER_XY: 361474.53500 4956668.76300
SECONDARY_NW_QUAD_XY: 361619.88500 4963394.50700
SECONDARY_NE_QUAD_XY: 366562.04400 4963289.98700
SECONDARY_SE_QUAD_XY: 366417.96700 4956347.32800
SECONDARY_SW_QUAD_XY: 361470.46900 4956451.84500
RMSE_XY: 1.20000
IMAGE_SOURCE: BLACK AND WHITE FILM
SOURCE_IMAGE_ID: NAPP 9483 080
SOURCE_IMAGE_DATE: 1995 08 14
SOURCE_IMAGE_ID: NAPP 9483 081
SOURCE_IMAGE_DATE: 1995 08 14
SOURCE_IMAGE_ID: NAPP 9483 079
SOURCE_IMAGE_DATE: 1995 08 14
SOURCE_IMAGE_ID: NAPP 8382 005
SOURCE_IMAGE_DATE: 1995 08 01
SOURCE_DEM_DATE: 1964 00 00
AGENCY: WESTERN MAPPING CENTER (WMC)
PRODUCER: UNDEFINED
PRODUCTION_SYSTEM: GIS/MAGIC
COMPRESSION: UNDEFINED
STANDARD_VERSION: 1996 12
METADATA_DATE: 2000 05 26
DATA_FILE_SIZE: 44123499
BYTE_COUNT: 5761
