FILENAME: O4411210.SES.1076738.tif
QUADRANGLE_NAME: KIDD
QUADRANT: SE
WEST_LONGITUDE: -112 48 45.00000
EAST_LONGITUDE: -112 45 0.00000
NORTH_LATITUDE: 44 48 45.00000
SOUTH_LATITUDE: 44 45 0.00000
PRODUCTION_DATE: 2000 5 9
RASTER_ORDER: LEFT_RIGHT/TOP_BOTTOM
BAND_ORGANIZATION: SINGLE FILE
BAND_CONTENT: BLACK&WHITE
BAND_CONTENT: UNDEFINED
BAND_CONTENT: UNDEFINED
BITS_PER_PIXEL: 8
SAMPLES_AND_LINES: 5767 7662
HORIZONTAL_DATUM: NAD83
HORIZONTAL_COORDINATE_SYSTEM: UTM
COORDINATE_ZONE: 12
HORIZONTAL_UNITS: METERS
HORIZONTAL_RESOLUTION: 1.00000
SECONDARY_HORIZONTAL_DATUM: NAD27
XY_ORIGIN: 356158.00000 4964020.00000
SECONDARY_XY_ORIGIN: 356221.31500 4963810.63000
NATION: US
NATION: "SCIENCE
STATE: MT
NW_QUAD_CORNER_XY: 356681.93800 4963719.80300
NE_QUAD_CORNER_XY: 361623.95300 4963611.48300
SE_QUAD_CORNERY_XY: 361474.53500 4956668.76300
SW_QUAD_CORNER_XY: 356527.18100 4956777.08000
SECONDARY_NW_QUAD_XY: 356677.72500 4963502.82900
SECONDARY_NE_QUAD_XY: 361619.88500 4963394.50700
SECONDARY_SE_QUAD_XY: 361470.46900 4956451.84500
SECONDARY_SW_QUAD_XY: 356522.96900 4956560.16600
RMSE_XY: 1.00000
IMAGE_SOURCE: BLACK AND WHITE FILM
SOURCE_IMAGE_ID: NAPP 9483 103
SOURCE_IMAGE_DATE: 1995 08 14
SOURCE_IMAGE_ID: NAPP 9483 104
SOURCE_IMAGE_DATE: 1995 08 14
SOURCE_IMAGE_ID: NAPP 9483 081
SOURCE_IMAGE_DATE: 1995 08 14
SOURCE_IMAGE_ID: NAPP 9483 079
SOURCE_IMAGE_DATE: 1995 08 14
SOURCE_DEM_DATE: 1992 00 00
AGENCY: WESTERN MAPPING CENTER (WMC)
PRODUCER: UNDEFINED
PRODUCTION_SYSTEM: GIS/MAGIC
COMPRESSION: UNDEFINED
STANDARD_VERSION: 1996 12
METADATA_DATE: 2000 05 25
DATA_FILE_SIZE: 44192521
BYTE_COUNT: 5767
