FILENAME: O4411209.NWS.1076665.tif
QUADRANGLE_NAME: DEER CANYON
QUADRANT: NW
WEST_LONGITUDE: -113 0 0.00000
EAST_LONGITUDE: -112 56 15.00000
NORTH_LATITUDE: 44 52 30.00000
SOUTH_LATITUDE: 44 48 45.00000
PRODUCTION_DATE: 2000 5 18
RASTER_ORDER: LEFT_RIGHT/TOP_BOTTOM
BAND_ORGANIZATION: SINGLE FILE
BAND_CONTENT: BLACK&WHITE
BAND_CONTENT: UNDEFINED
BAND_CONTENT: UNDEFINED
BITS_PER_PIXEL: 8
SAMPLES_AND_LINES: 5779 7673
HORIZONTAL_DATUM: NAD83
HORIZONTAL_COORDINATE_SYSTEM: UTM
COORDINATE_ZONE: 12
HORIZONTAL_UNITS: METERS
HORIZONTAL_RESOLUTION: 1.00000
SECONDARY_HORIZONTAL_DATUM: NAD27
XY_ORIGIN: 341486.00000 4971311.00000
SECONDARY_XY_ORIGIN: 341549.45500 4971101.01500
NATION: US
NATION: "SCIENCE
STATE: MT
NW_QUAD_CORNER_XY: 342026.85500 4971010.37800
NE_QUAD_CORNER_XY: 346963.52700 4970890.64600
SE_QUAD_CORNERY_XY: 346797.90500 4963947.85200
SW_QUAD_CORNER_XY: 341855.88600 4964067.58200
SECONDARY_NW_QUAD_XY: 342022.20500 4970793.35700
SECONDARY_NE_QUAD_XY: 346959.02200 4970673.62200
SECONDARY_SE_QUAD_XY: 346793.40200 4963730.88500
SECONDARY_SW_QUAD_XY: 341851.23800 4963850.61900
RMSE_XY: 1.10000
IMAGE_SOURCE: BLACK AND WHITE FILM
SOURCE_IMAGE_ID: NAPP 9485 149
SOURCE_IMAGE_DATE: 1995 08 20
SOURCE_IMAGE_ID: NAPP 9485 148
SOURCE_IMAGE_DATE: 1995 08 20
SOURCE_DEM_DATE: 1964 00 00
AGENCY: WESTERN MAPPING CENTER (WMC)
PRODUCER: UNDEFINED
PRODUCTION_SYSTEM: GIS/MAGIC
COMPRESSION: UNDEFINED
STANDARD_VERSION: 1996 12
METADATA_DATE: 2000 05 25
DATA_FILE_SIZE: 44348046
BYTE_COUNT: 5779
