FILENAME: O4411207.NES.789359.tif
QUADRANGLE_NAME: SWAMP CREEK
QUADRANT: NE
WEST_LONGITUDE: -112 11 15.00000
EAST_LONGITUDE: -112 7 30.00000
NORTH_LATITUDE: 45 0 0.00000
SOUTH_LATITUDE: 44 56 15.00000
PRODUCTION_DATE: 1997 11 19
RASTER_ORDER: LEFT_RIGHT/TOP_BOTTOM
BAND_ORGANIZATION: SINGLE FILE
BAND_CONTENT: BLACK&WHITE
BAND_CONTENT: UNDEFINED
BAND_CONTENT: UNDEFINED
BITS_PER_PIXEL: 8
SAMPLES_AND_LINES: 5692 7622
HORIZONTAL_DATUM: NAD83
HORIZONTAL_COORDINATE_SYSTEM: UTM
COORDINATE_ZONE: 12
HORIZONTAL_UNITS: METERS
HORIZONTAL_RESOLUTION: 1.00000
SECONDARY_HORIZONTAL_DATUM: NAD27
XY_ORIGIN: 405940.81200 4983935.77000
SECONDARY_XY_ORIGIN: 406002.63900 4983726.73700
NATION: US
STATE: MT
NW_QUAD_CORNER_XY: 406406.82500 4983636.27000
NE_QUAD_CORNER_XY: 411332.78200 4983565.96900
SE_QUAD_CORNERY_XY: 411236.42700 4976623.04500
SW_QUAD_CORNER_XY: 406305.11500 4976693.34600
SECONDARY_NW_QUAD_XY: 406404.06200 4983419.09900
SECONDARY_NE_QUAD_XY: 411330.16500 4983348.79600
SECONDARY_SE_QUAD_XY: 411233.81100 4976405.92900
SECONDARY_SW_QUAD_XY: 406302.35300 4976476.23200
RMSE_XY: 4.40000
IMAGE_SOURCE: BLACK AND WHITE FILM
SOURCE_IMAGE_ID: NAPP 9484 211
SOURCE_IMAGE_DATE: 1995 8 14
SOURCE_DEM_DATE: 1997 11 19
AGENCY: WESTERN MAPPING CENTER (WMC)
PRODUCER: NIES MAPPING GROUP
PRODUCTION_SYSTEM: INTERGRAPH- ISPM,ISIR
COMPRESSION: UNDEFINED
STANDARD_VERSION: 1996 12
METADATA_DATE: 1998 2 27
DATA_FILE_SIZE: 43390116
BYTE_COUNT: 5692
