FILENAME: O4411207.SWS.789362.tif
QUADRANGLE_NAME: SWAMP CREEK
QUADRANT: SW
WEST_LONGITUDE: -112 15 0.00000
EAST_LONGITUDE: -112 11 15.00000
NORTH_LATITUDE: 44 56 15.00000
SOUTH_LATITUDE: 44 52 30.00000
PRODUCTION_DATE: 1997 11 19
RASTER_ORDER: LEFT_RIGHT/TOP_BOTTOM
BAND_ORGANIZATION: SINGLE FILE
BAND_CONTENT: BLACK&WHITE
BAND_CONTENT: UNDEFINED
BAND_CONTENT: UNDEFINED
BITS_PER_PIXEL: 8
SAMPLES_AND_LINES: 5704 7625
HORIZONTAL_DATUM: NAD83
HORIZONTAL_COORDINATE_SYSTEM: UTM
COORDINATE_ZONE: 12
HORIZONTAL_UNITS: METERS
HORIZONTAL_RESOLUTION: 1.00000
SECONDARY_HORIZONTAL_DATUM: NAD27
XY_ORIGIN: 400901.97300 4977066.94900
SECONDARY_XY_ORIGIN: 400964.25100 4976858.08200
NATION: US
STATE: MT
NW_QUAD_CORNER_XY: 401373.80200 4976767.44900
NE_QUAD_CORNER_XY: 406305.11500 4976693.34600
SE_QUAD_CORNERY_XY: 406203.51700 4969750.49600
SW_QUAD_CORNER_XY: 401266.85500 4969824.59700
SECONDARY_NW_QUAD_XY: 401370.89500 4976550.33600
SECONDARY_NE_QUAD_XY: 406302.35300 4976476.23200
SECONDARY_SE_QUAD_XY: 406200.75600 4969533.43800
SECONDARY_SW_QUAD_XY: 401263.94900 4969607.54200
RMSE_XY: 2.00000
IMAGE_SOURCE: BLACK AND WHITE FILM
SOURCE_IMAGE_ID: NAPP 9484 182
SOURCE_IMAGE_DATE: 1995 8 14
SOURCE_DEM_DATE: 1997 11 19
AGENCY: WESTERN MAPPING CENTER (WMC)
PRODUCER: NIES MAPPING GROUP
PRODUCTION_SYSTEM: INTERGRAPH- ISPM,ISIR
COMPRESSION: UNDEFINED
STANDARD_VERSION: 1996 12
METADATA_DATE: 1998 2 27
DATA_FILE_SIZE: 43498704
BYTE_COUNT: 5704
