FILENAME: O4411205.NWS.810064.tif
QUADRANGLE_NAME: PRICE CREEK
QUADRANT: NW
WEST_LONGITUDE: -112 30 0.00000
EAST_LONGITUDE: -112 26 15.00000
NORTH_LATITUDE: 45 0 0.00000
SOUTH_LATITUDE: 44 56 15.00000
PRODUCTION_DATE: 1997 11 25
RASTER_ORDER: LEFT_RIGHT/TOP_BOTTOM
BAND_ORGANIZATION: SINGLE FILE
BAND_CONTENT: BLACK&WHITE
BAND_CONTENT: UNDEFINED
BAND_CONTENT: UNDEFINED
BITS_PER_PIXEL: 8
SAMPLES_AND_LINES: 5721 7640
HORIZONTAL_DATUM: NAD83
HORIZONTAL_COORDINATE_SYSTEM: UTM
COORDINATE_ZONE: 12
HORIZONTAL_UNITS: METERS
HORIZONTAL_RESOLUTION: 1.00000
SECONDARY_HORIZONTAL_DATUM: NAD27
XY_ORIGIN: 381282.54500 4984344.29900
SECONDARY_XY_ORIGIN: 381345.54800 4984135.09800
NATION: US
STATE: MT
NW_QUAD_CORNER_XY: 381777.03400 4984044.79900
NE_QUAD_CORNER_XY: 386702.99300 4983955.49000
SE_QUAD_CORNERY_XY: 386579.86200 4977012.56400
SW_QUAD_CORNER_XY: 381648.54700 4977101.87300
SECONDARY_NW_QUAD_XY: 381773.54500 4983827.64000
SECONDARY_NE_QUAD_XY: 386699.64900 4983738.32800
SECONDARY_SE_QUAD_XY: 386576.51900 4976795.45900
SECONDARY_SW_QUAD_XY: 381645.05900 4976884.77000
RMSE_XY: 1.80000
IMAGE_SOURCE: BLACK AND WHITE FILM
SOURCE_IMAGE_ID: NAPP 8382 203
SOURCE_IMAGE_DATE: 1995 8 1
SOURCE_DEM_DATE: 1997 11 25
AGENCY: WESTERN MAPPING CENTER (WMC)
PRODUCER: NIES MAPPING GROUP
PRODUCTION_SYSTEM: INTERGRAPH-ISIR
COMPRESSION: UNDEFINED
STANDARD_VERSION: 1996 12
METADATA_DATE: 1998 3 19
DATA_FILE_SIZE: 43714161
BYTE_COUNT: 5721
