FILENAME: O4411205.SWS.810068.tif
QUADRANGLE_NAME: PRICE CREEK
QUADRANT: SW
WEST_LONGITUDE: -112 30 0.00000
EAST_LONGITUDE: -112 26 15.00000
NORTH_LATITUDE: 44 56 15.00000
SOUTH_LATITUDE: 44 52 30.00000
PRODUCTION_DATE: 1997 11 25
RASTER_ORDER: LEFT_RIGHT/TOP_BOTTOM
BAND_ORGANIZATION: SINGLE FILE
BAND_CONTENT: BLACK&WHITE
BAND_CONTENT: UNDEFINED
BAND_CONTENT: UNDEFINED
BITS_PER_PIXEL: 8
SAMPLES_AND_LINES: 5726 7640
HORIZONTAL_DATUM: NAD83
HORIZONTAL_COORDINATE_SYSTEM: UTM
COORDINATE_ZONE: 12
HORIZONTAL_UNITS: METERS
HORIZONTAL_RESOLUTION: 1.00000
SECONDARY_HORIZONTAL_DATUM: NAD27
XY_ORIGIN: 381154.17900 4977401.37300
SECONDARY_XY_ORIGIN: 381217.20000 4977192.35100
NATION: US
STATE: MT
NW_QUAD_CORNER_XY: 381648.54700 4977101.87300
NE_QUAD_CORNER_XY: 386579.86200 4977012.56400
SE_QUAD_CORNERY_XY: 386456.86600 4970069.71000
SW_QUAD_CORNER_XY: 381520.20200 4970159.01800
SECONDARY_NW_QUAD_XY: 381645.05900 4976884.77000
SECONDARY_NE_QUAD_XY: 386576.51900 4976795.45900
SECONDARY_SE_QUAD_XY: 386453.52400 4969852.66200
SECONDARY_SW_QUAD_XY: 381516.71500 4969941.97200
RMSE_XY: 1.80000
IMAGE_SOURCE: BLACK AND WHITE FILM
SOURCE_IMAGE_ID: NAPP 8382 205
SOURCE_IMAGE_DATE: 1995 8 1
SOURCE_DEM_DATE: 1997 11 25
AGENCY: WESTERN MAPPING CENTER (WMC)
PRODUCER: NIES MAPPING GROUP
PRODUCTION_SYSTEM: INTERGRAPH-ISIR
COMPRESSION: UNDEFINED
STANDARD_VERSION: 1996 12
METADATA_DATE: 1998 3 19
DATA_FILE_SIZE: 43752366
BYTE_COUNT: 5726
