FILENAME: O4411204.SES.810061.tif
QUADRANGLE_NAME: BEECH CREEK
QUADRANT: SE
WEST_LONGITUDE: -112 33 45.00000
EAST_LONGITUDE: -112 30 0.00000
NORTH_LATITUDE: 44 56 15.00000
SOUTH_LATITUDE: 44 52 30.00000
PRODUCTION_DATE: 1997 11 25
RASTER_ORDER: LEFT_RIGHT/TOP_BOTTOM
BAND_ORGANIZATION: SINGLE FILE
BAND_CONTENT: BLACK&WHITE
BAND_CONTENT: UNDEFINED
BAND_CONTENT: UNDEFINED
BITS_PER_PIXEL: 8
SAMPLES_AND_LINES: 5732 7644
HORIZONTAL_DATUM: NAD83
HORIZONTAL_COORDINATE_SYSTEM: UTM
COORDINATE_ZONE: 12
HORIZONTAL_UNITS: METERS
HORIZONTAL_RESOLUTION: 1.00000
SECONDARY_HORIZONTAL_DATUM: NAD27
XY_ORIGIN: 376217.28700 4977494.48400
SECONDARY_XY_ORIGIN: 376280.40900 4977285.33600
NATION: US
STATE: MT
NW_QUAD_CORNER_XY: 376717.23200 4977194.98400
NE_QUAD_CORNER_XY: 381648.54700 4977101.87300
SE_QUAD_CORNERY_XY: 381520.20200 4970159.01800
SW_QUAD_CORNER_XY: 376583.53700 4970252.12800
SECONDARY_NW_QUAD_XY: 376713.59900 4976977.88400
SECONDARY_NE_QUAD_XY: 381645.05900 4976884.77000
SECONDARY_SE_QUAD_XY: 381516.71500 4969941.97200
SECONDARY_SW_QUAD_XY: 376579.90400 4970035.08500
RMSE_XY: 2.00000
IMAGE_SOURCE: BLACK AND WHITE FILM
SOURCE_IMAGE_ID: NAPP 8383 38
SOURCE_IMAGE_DATE: 1995 8 15
SOURCE_DEM_DATE: 1997 11 25
AGENCY: WESTERN MAPPING CENTER (WMC)
PRODUCER: NIES MAPPING GROUP
PRODUCTION_SYSTEM: INTERGRAPH-ISIR
COMPRESSION: UNDEFINED
STANDARD_VERSION: 1996 12
METADATA_DATE: 1998 3 19
DATA_FILE_SIZE: 43821140
BYTE_COUNT: 5732
