FILENAME: O4411203.NWS.1077553.tif
QUADRANGLE_NAME: MONUMENT HILL
QUADRANT: NW
WEST_LONGITUDE: -112 45 0.00000
EAST_LONGITUDE: -112 41 15.00000
NORTH_LATITUDE: 45 0 0.00000
SOUTH_LATITUDE: 44 56 15.00000
PRODUCTION_DATE: 2000 5 9
RASTER_ORDER: LEFT_RIGHT/TOP_BOTTOM
BAND_ORGANIZATION: SINGLE FILE
BAND_CONTENT: BLACK&WHITE
BAND_CONTENT: UNDEFINED
BAND_CONTENT: UNDEFINED
BITS_PER_PIXEL: 8
SAMPLES_AND_LINES: 5747 7659
HORIZONTAL_DATUM: NAD83
HORIZONTAL_COORDINATE_SYSTEM: UTM
COORDINATE_ZONE: 12
HORIZONTAL_UNITS: METERS
HORIZONTAL_RESOLUTION: 1.00000
SECONDARY_HORIZONTAL_DATUM: NAD27
XY_ORIGIN: 361554.00000 4984741.00000
SECONDARY_XY_ORIGIN: 361617.46900 4984531.30800
NATION: US
NATION: "SCIENCE
STATE: MT
NW_QUAD_CORNER_XY: 362073.19800 4984440.05900
NE_QUAD_CORNER_XY: 366999.15800 4984335.54000
SE_QUAD_CORNERY_XY: 366854.60100 4977392.61300
SW_QUAD_CORNER_XY: 361923.28400 4977497.13200
SECONDARY_NW_QUAD_XY: 362069.12700 4984222.91300
SECONDARY_NE_QUAD_XY: 366995.23200 4984118.39000
SECONDARY_SE_QUAD_XY: 366850.67600 4977175.51900
SECONDARY_SW_QUAD_XY: 361919.21500 4977280.04100
RMSE_XY: 2.60000
IMAGE_SOURCE: BLACK AND WHITE FILM
SOURCE_IMAGE_ID: NAPP 9483 074
SOURCE_IMAGE_DATE: 1995 08 14
SOURCE_IMAGE_ID: NAPP 9483 075
SOURCE_IMAGE_DATE: 1995 08 14
SOURCE_IMAGE_ID: NAPP 9483 073
SOURCE_IMAGE_DATE: 1995 08 14
SOURCE_IMAGE_ID: NAPP 8382 013
SOURCE_IMAGE_DATE: 1995 08 01
SOURCE_DEM_DATE: 1965 00 00
AGENCY: WESTERN MAPPING CENTER (WMC)
PRODUCER: UNDEFINED
PRODUCTION_SYSTEM: GIS/MAGIC
COMPRESSION: UNDEFINED
STANDARD_VERSION: 1996 12
METADATA_DATE: 2000 05 26
DATA_FILE_SIZE: 44022020
BYTE_COUNT: 5747
