FILENAME: O4411202.NWS.1076733.tif
QUADRANGLE_NAME: RED ROCK
QUADRANT: NW
WEST_LONGITUDE: -112 52 30.00000
EAST_LONGITUDE: -112 48 45.00000
NORTH_LATITUDE: 45 0 0.00000
SOUTH_LATITUDE: 44 56 15.00000
PRODUCTION_DATE: 2000 5 9
RASTER_ORDER: LEFT_RIGHT/TOP_BOTTOM
BAND_ORGANIZATION: SINGLE FILE
BAND_CONTENT: BLACK&WHITE
BAND_CONTENT: UNDEFINED
BAND_CONTENT: UNDEFINED
BITS_PER_PIXEL: 8
SAMPLES_AND_LINES: 5758 7665
HORIZONTAL_DATUM: NAD83
HORIZONTAL_COORDINATE_SYSTEM: UTM
COORDINATE_ZONE: 12
HORIZONTAL_UNITS: METERS
HORIZONTAL_RESOLUTION: 1.00000
SECONDARY_HORIZONTAL_DATUM: NAD27
XY_ORIGIN: 351691.00000 4984961.00000
SECONDARY_XY_ORIGIN: 351754.57100 4984751.04400
NATION: US
NATION: "SCIENCE
STATE: MT
NW_QUAD_CORNER_XY: 352221.27900 4984660.50800
NE_QUAD_CORNER_XY: 357147.23900 4984548.38200
SE_QUAD_CORNERY_XY: 356991.96700 4977605.45400
SW_QUAD_CORNER_XY: 352060.65000 4977717.57900
SECONDARY_NW_QUAD_XY: 352216.91700 4984443.36700
SECONDARY_NE_QUAD_XY: 357143.02200 4984331.23800
SECONDARY_SE_QUAD_XY: 356987.75200 4977388.36600
SECONDARY_SW_QUAD_XY: 352056.28900 4977500.49400
RMSE_XY: 1.40000
IMAGE_SOURCE: BLACK AND WHITE FILM
SOURCE_IMAGE_ID: NAPP 9485 184
SOURCE_IMAGE_DATE: 1995 08 20
SOURCE_IMAGE_ID: NAPP 9485 183
SOURCE_IMAGE_DATE: 1995 08 20
SOURCE_IMAGE_ID: NAPP 9485 185
SOURCE_IMAGE_DATE: 1995 08 20
SOURCE_DEM_DATE: 1964 00 00
AGENCY: WESTERN MAPPING CENTER (WMC)
PRODUCER: UNDEFINED
PRODUCTION_SYSTEM: GIS/MAGIC
COMPRESSION: UNDEFINED
STANDARD_VERSION: 1996 12
METADATA_DATE: 2000 05 25
DATA_FILE_SIZE: 44140828
BYTE_COUNT: 5758
