FILENAME: O4411332.NES.46734.tif
QUADRANGLE_NAME: MORRISON LAKE
QUADRANT: NE
WEST_LONGITUDE: -113 3 45.00000
EAST_LONGITUDE: -113 0 0.00000
NORTH_LATITUDE: 44 37 30.00000
SOUTH_LATITUDE: 44 33 45.00000
PRODUCTION_DATE: 1995 10 19
RASTER_ORDER: LEFT_RIGHT/TOP_BOTTOM
BAND_ORGANIZATION: SINGLE FILE
BAND_CONTENT: BLACK&WHITE
BAND_CONTENT: UNDEFINED
BAND_CONTENT: UNDEFINED
BITS_PER_PIXEL: 8
SAMPLES_AND_LINES: 5850 7710
HORIZONTAL_DATUM: NAD83
HORIZONTAL_COORDINATE_SYSTEM: UTM
COORDINATE_ZONE: 12
HORIZONTAL_UNITS: METERS
HORIZONTAL_RESOLUTION: 1.00000
SECONDARY_HORIZONTAL_DATUM: NAD27
XY_ORIGIN: 335820.00000 4943670.00000
SECONDARY_XY_ORIGIN: 335883.04700 4943460.43900
NATION: US
STATE: MT
STATE: ID
NW_QUAD_CORNER_XY: 336386.09000 4943363.12200
NE_QUAD_CORNER_XY: 341344.11700 4943239.59600
SE_QUAD_CORNERY_XY: 341173.90600 4936297.06800
SW_QUAD_CORNER_XY: 336210.55600 4936420.59000
SECONDARY_NW_QUAD_XY: 336381.30000 4943146.34000
SECONDARY_NE_QUAD_XY: 341339.47200 4943022.81100
SECONDARY_SE_QUAD_XY: 341169.26400 4936080.34400
SECONDARY_SW_QUAD_XY: 336205.76800 4936203.86900
RMSE_XY: 3.70000
IMAGE_SOURCE: BLACK AND WHITE FILM
SOURCE_IMAGE_ID: NAPP 4938 173
SOURCE_IMAGE_DATE: 1992 8 27
SOURCE_DEM_DATE: 1995 10 19
AGENCY: WESTERN MAPPING CENTER (WMC)
PRODUCER: Analytical Surveys
PRODUCTION_SYSTEM: ORBIT OR_RECTIFY V.5.2
COMPRESSION: UNDEFINED
STANDARD_VERSION: 1996 12
METADATA_DATE: 1997 7 13
DATA_FILE_SIZE: 45109350
BYTE_COUNT: 5850
