FILENAME: O4411316.NES.1076612.tif
QUADRANGLE_NAME: MEDICINE LODGE PEAK
QUADRANT: NE
WEST_LONGITUDE: -113 3 45.00000
EAST_LONGITUDE: -113 0 0.00000
NORTH_LATITUDE: 44 52 30.00000
SOUTH_LATITUDE: 44 48 45.00000
PRODUCTION_DATE: 2000 5 10
RASTER_ORDER: LEFT_RIGHT/TOP_BOTTOM
BAND_ORGANIZATION: SINGLE FILE
BAND_CONTENT: BLACK&WHITE
BAND_CONTENT: UNDEFINED
BAND_CONTENT: UNDEFINED
BITS_PER_PIXEL: 8
SAMPLES_AND_LINES: 5784 7676
HORIZONTAL_DATUM: NAD83
HORIZONTAL_COORDINATE_SYSTEM: UTM
COORDINATE_ZONE: 12
HORIZONTAL_UNITS: METERS
HORIZONTAL_RESOLUTION: 1.00000
SECONDARY_HORIZONTAL_DATUM: NAD27
XY_ORIGIN: 336544.00000 4971434.00000
SECONDARY_XY_ORIGIN: 336607.52300 4971223.86200
NATION: US
NATION: "SCIENCE
STATE: MT
NW_QUAD_CORNER_XY: 337090.18200 4971133.91400
NE_QUAD_CORNER_XY: 342026.85500 4971010.37800
SE_QUAD_CORNERY_XY: 341855.88600 4964067.58200
SW_QUAD_CORNER_XY: 336913.86600 4964191.11600
SECONDARY_NW_QUAD_XY: 337085.38700 4970916.89700
SECONDARY_NE_QUAD_XY: 342022.20500 4970793.35700
SECONDARY_SE_QUAD_XY: 341851.23800 4963850.61900
SECONDARY_SW_QUAD_XY: 336909.07200 4963974.15700
RMSE_XY: 1.10000
IMAGE_SOURCE: BLACK AND WHITE FILM
SOURCE_IMAGE_ID: NAPP 8404 030
SOURCE_IMAGE_DATE: 1995 09 12
SOURCE_IMAGE_ID: NAPP 8404 029
SOURCE_IMAGE_DATE: 1995 09 12
SOURCE_DEM_DATE: 2000 01 01
AGENCY: WESTERN MAPPING CENTER (WMC)
PRODUCER: UNDEFINED
PRODUCTION_SYSTEM: GIS/MAGIC
COMPRESSION: UNDEFINED
STANDARD_VERSION: 1996 12
METADATA_DATE: 2000 05 25
DATA_FILE_SIZE: 44403768
BYTE_COUNT: 5784
