FILENAME: O4411316.SWS.1076616.tif
QUADRANGLE_NAME: MEDICINE LODGE PEAK
QUADRANT: SW
WEST_LONGITUDE: -113 7 30.00000
EAST_LONGITUDE: -113 3 45.00000
NORTH_LATITUDE: 44 48 45.00000
SOUTH_LATITUDE: 44 45 0.00000
PRODUCTION_DATE: 2000 5 10
RASTER_ORDER: LEFT_RIGHT/TOP_BOTTOM
BAND_ORGANIZATION: SINGLE FILE
BAND_CONTENT: BLACK&WHITE
BAND_CONTENT: UNDEFINED
BAND_CONTENT: UNDEFINED
BITS_PER_PIXEL: 8
SAMPLES_AND_LINES: 5794 7680
HORIZONTAL_DATUM: NAD83
HORIZONTAL_COORDINATE_SYSTEM: UTM
COORDINATE_ZONE: 12
HORIZONTAL_UNITS: METERS
HORIZONTAL_RESOLUTION: 1.00000
SECONDARY_HORIZONTAL_DATUM: NAD27
XY_ORIGIN: 331421.00000 4964619.00000
SECONDARY_XY_ORIGIN: 331484.47600 4964408.81500
NATION: US
NATION: "SCIENCE
STATE: MT
NW_QUAD_CORNER_XY: 331971.84500 4964318.45500
NE_QUAD_CORNER_XY: 336913.86600 4964191.11600
SE_QUAD_CORNERY_XY: 336737.74500 4957248.38500
SW_QUAD_CORNER_XY: 331790.38200 4957375.72100
SECONDARY_NW_QUAD_XY: 331966.90500 4964101.49900
SECONDARY_NE_QUAD_XY: 336909.07200 4963974.15700
SECONDARY_SE_QUAD_XY: 336732.95300 4957031.48400
SECONDARY_SW_QUAD_XY: 331785.44400 4957158.82400
RMSE_XY: 1.60000
IMAGE_SOURCE: BLACK AND WHITE FILM
SOURCE_IMAGE_ID: NAPP 8404 059
SOURCE_IMAGE_DATE: 1995 09 12
SOURCE_IMAGE_ID: NAPP 8404 058
SOURCE_IMAGE_DATE: 1995 09 12
SOURCE_IMAGE_ID: NAPP 8404 060
SOURCE_IMAGE_DATE: 1995 09 12
SOURCE_DEM_DATE: 2000 01 01
AGENCY: WESTERN MAPPING CENTER (WMC)
PRODUCER: UNDEFINED
PRODUCTION_SYSTEM: GIS/MAGIC
COMPRESSION: UNDEFINED
STANDARD_VERSION: 1996 12
METADATA_DATE: 2000 05 25
DATA_FILE_SIZE: 44503714
BYTE_COUNT: 5794
