FILENAME: O4411314.NWS.47105.tif
QUADRANGLE_NAME: BANNOCK PASS
QUADRANT: NW
WEST_LONGITUDE: -113 22 30.00000
EAST_LONGITUDE: -113 18 45.00000
NORTH_LATITUDE: 44 52 30.00000
SOUTH_LATITUDE: 44 48 45.00000
PRODUCTION_DATE: 1995 10 30
RASTER_ORDER: LEFT_RIGHT/TOP_BOTTOM
BAND_ORGANIZATION: SINGLE FILE
BAND_CONTENT: BLACK&WHITE
BAND_CONTENT: UNDEFINED
BAND_CONTENT: UNDEFINED
BITS_PER_PIXEL: 8
SAMPLES_AND_LINES: 5850 7710
HORIZONTAL_DATUM: NAD83
HORIZONTAL_COORDINATE_SYSTEM: UTM
COORDINATE_ZONE: 12
HORIZONTAL_UNITS: METERS
HORIZONTAL_RESOLUTION: 1.00000
SECONDARY_HORIZONTAL_DATUM: NAD27
XY_ORIGIN: 311820.00000 4972110.00000
SECONDARY_XY_ORIGIN: 311883.83800 4971899.22500
NATION: US
STATE: MT
STATE: ID
NW_QUAD_CORNER_XY: 312406.80200 4971808.66800
NE_QUAD_CORNER_XY: 317343.48100 4971666.10600
SE_QUAD_CORNERY_XY: 317145.77100 4964723.30100
SW_QUAD_CORNER_XY: 312203.74300 4964865.86000
SECONDARY_NW_QUAD_XY: 312401.28000 4971591.67000
SECONDARY_NE_QUAD_XY: 317338.10400 4971449.10500
SECONDARY_SE_QUAD_XY: 317140.39500 4964506.35700
SECONDARY_SW_QUAD_XY: 312198.22200 4964648.92100
RMSE_XY: 1.70000
IMAGE_SOURCE: BLACK AND WHITE FILM
SOURCE_IMAGE_ID: NAPP 4938 100
SOURCE_IMAGE_DATE: 1992 8 27
SOURCE_DEM_DATE: 1995 10 30
AGENCY: WESTERN MAPPING CENTER (WMC)
PRODUCER: Analytical Surveys
PRODUCTION_SYSTEM: ORBIT OR_RECTIFY V.5.2
COMPRESSION: UNDEFINED
STANDARD_VERSION: 1996 12
METADATA_DATE: 1997 7 13
DATA_FILE_SIZE: 45109350
BYTE_COUNT: 5850
