FILENAME: O4411307.NWS.1076573.tif
QUADRANGLE_NAME: JEFF DAVIS PEAK
QUADRANT: NW
WEST_LONGITUDE: -113 15 0.00000
EAST_LONGITUDE: -113 11 15.00000
NORTH_LATITUDE: 45 0 0.00000
SOUTH_LATITUDE: 44 56 15.00000
PRODUCTION_DATE: 2000 5 2
RASTER_ORDER: LEFT_RIGHT/TOP_BOTTOM
BAND_ORGANIZATION: SINGLE FILE
BAND_CONTENT: BLACK&WHITE
BAND_CONTENT: UNDEFINED
BAND_CONTENT: UNDEFINED
BITS_PER_PIXEL: 8
SAMPLES_AND_LINES: 5791 7688
HORIZONTAL_DATUM: NAD83
HORIZONTAL_COORDINATE_SYSTEM: UTM
COORDINATE_ZONE: 12
HORIZONTAL_UNITS: METERS
HORIZONTAL_RESOLUTION: 1.00000
SECONDARY_HORIZONTAL_DATUM: NAD27
XY_ORIGIN: 322102.00000 4985714.00000
SECONDARY_XY_ORIGIN: 322165.89700 4985503.19900
NATION: US
NATION: "SCIENCE
STATE: MT
NW_QUAD_CORNER_XY: 322665.51700 4985413.15000
NE_QUAD_CORNER_XY: 327591.47800 4985278.19800
SE_QUAD_CORNERY_XY: 327404.05300 4978335.26600
SW_QUAD_CORNER_XY: 322472.73100 4978470.21800
SECONDARY_NW_QUAD_XY: 322660.28200 4985196.03200
SECONDARY_NE_QUAD_XY: 327586.38900 4985061.07600
SECONDARY_SE_QUAD_XY: 327398.96500 4978118.20000
SECONDARY_SW_QUAD_XY: 322467.49800 4978253.15600
RMSE_XY: 1.10000
IMAGE_SOURCE: BLACK AND WHITE FILM
SOURCE_IMAGE_ID: NAPP 8393 226
SOURCE_IMAGE_DATE: 1995 08 19
SOURCE_IMAGE_ID: NAPP 8391 123
SOURCE_IMAGE_DATE: 1995 08 01
SOURCE_IMAGE_ID: NAPP 8393 227
SOURCE_IMAGE_DATE: 1995 08 19
SOURCE_IMAGE_ID: NAPP 8393 225
SOURCE_IMAGE_DATE: 1995 08 19
SOURCE_DEM_DATE: 2000 01 01
AGENCY: WESTERN MAPPING CENTER (WMC)
PRODUCER: UNDEFINED
PRODUCTION_SYSTEM: GIS/MAGIC
COMPRESSION: UNDEFINED
STANDARD_VERSION: 1996 12
METADATA_DATE: 2000 05 19
DATA_FILE_SIZE: 44526999
BYTE_COUNT: 5791
