FILENAME: O4411306.SWS.1076531.tif
QUADRANGLE_NAME: EVERSON CREEK
QUADRANT: SW
WEST_LONGITUDE: -113 22 30.00000
EAST_LONGITUDE: -113 18 45.00000
NORTH_LATITUDE: 44 56 15.00000
SOUTH_LATITUDE: 44 52 30.00000
PRODUCTION_DATE: 2000 4 21
RASTER_ORDER: LEFT_RIGHT/TOP_BOTTOM
BAND_ORGANIZATION: SINGLE FILE
BAND_CONTENT: BLACK&WHITE
BAND_CONTENT: UNDEFINED
BAND_CONTENT: UNDEFINED
BITS_PER_PIXEL: 8
SAMPLES_AND_LINES: 5807 7695
HORIZONTAL_DATUM: NAD83
HORIZONTAL_COORDINATE_SYSTEM: UTM
COORDINATE_ZONE: 12
HORIZONTAL_UNITS: METERS
HORIZONTAL_RESOLUTION: 1.00000
SECONDARY_HORIZONTAL_DATUM: NAD27
XY_ORIGIN: 312036.00000 4979052.00000
SECONDARY_XY_ORIGIN: 312099.98000 4978841.14500
NATION: US
NATION: "SCIENCE
STATE: MT
NW_QUAD_CORNER_XY: 312610.08700 4978751.53800
NE_QUAD_CORNER_XY: 317541.40900 4978608.97500
SE_QUAD_CORNERY_XY: 317343.48100 4971666.10600
SW_QUAD_CORNER_XY: 312406.80200 4971808.66700
SECONDARY_NW_QUAD_XY: 312604.56300 4978534.48400
SECONDARY_NE_QUAD_XY: 317536.03100 4978391.91700
SECONDARY_SE_QUAD_XY: 317338.10400 4971449.10400
SECONDARY_SW_QUAD_XY: 312401.28000 4971591.67000
RMSE_XY: 1.80000
IMAGE_SOURCE: BLACK AND WHITE FILM
SOURCE_IMAGE_ID: NAPP 8391 111
SOURCE_IMAGE_DATE: 1995 08 01
SOURCE_IMAGE_ID: NAPP 8391 112
SOURCE_IMAGE_DATE: 1995 08 01
SOURCE_IMAGE_ID: NAPP 8391 110
SOURCE_IMAGE_DATE: 1995 08 01
SOURCE_DEM_DATE: 1965 00 00
AGENCY: WESTERN MAPPING CENTER (WMC)
PRODUCER: UNDEFINED
PRODUCTION_SYSTEM: GIS/MAGIC
COMPRESSION: UNDEFINED
STANDARD_VERSION: 1996 12
METADATA_DATE: 2000 05 19
DATA_FILE_SIZE: 44690672
BYTE_COUNT: 5807
