FILENAME: O4411305.SWS.47297.tif
QUADRANGLE_NAME: LEMHI PASS
QUADRANT: SW
WEST_LONGITUDE: -113 30 0.00000
EAST_LONGITUDE: -113 26 15.00000
NORTH_LATITUDE: 44 56 15.00000
SOUTH_LATITUDE: 44 52 30.00000
PRODUCTION_DATE: 1995 10 12
RASTER_ORDER: LEFT_RIGHT/TOP_BOTTOM
BAND_ORGANIZATION: SINGLE FILE
BAND_CONTENT: BLACK&WHITE
BAND_CONTENT: UNDEFINED
BAND_CONTENT: UNDEFINED
BITS_PER_PIXEL: 8
SAMPLES_AND_LINES: 5820 7740
HORIZONTAL_DATUM: NAD83
HORIZONTAL_COORDINATE_SYSTEM: UTM
COORDINATE_ZONE: 12
HORIZONTAL_UNITS: METERS
HORIZONTAL_RESOLUTION: 1.00000
SECONDARY_HORIZONTAL_DATUM: NAD27
XY_ORIGIN: 302160.00000 4979370.00000
SECONDARY_XY_ORIGIN: 302224.15400 4979158.98000
NATION: US
STATE: MT
STATE: ID
NW_QUAD_CORNER_XY: 302747.43900 4979048.08200
NE_QUAD_CORNER_XY: 307678.76300 4978897.90700
SE_QUAD_CORNERY_XY: 307470.12300 4971955.03500
SW_QUAD_CORNER_XY: 302533.44300 4972105.20900
SECONDARY_NW_QUAD_XY: 302741.62400 4978831.03700
SECONDARY_NE_QUAD_XY: 307673.09400 4978680.85700
SECONDARY_SE_QUAD_XY: 307464.45500 4971738.04200
SECONDARY_SW_QUAD_XY: 302527.63000 4971888.22100
RMSE_XY: 2.60000
IMAGE_SOURCE: BLACK AND WHITE FILM
SOURCE_IMAGE_ID: NAPP 4938 086
SOURCE_IMAGE_DATE: 1992 8 27
SOURCE_DEM_DATE: 1995 10 12
AGENCY: WESTERN MAPPING CENTER (WMC)
PRODUCER: Analytical Surveys
PRODUCTION_SYSTEM: ORBIT OR_RECTIFY V.5.2
COMPRESSION: UNDEFINED
STANDARD_VERSION: 1996 12
METADATA_DATE: 1997 7 10
DATA_FILE_SIZE: 45052620
BYTE_COUNT: 5820
