FILENAME: O4510464.NWS.1104007.tif
QUADRANGLE_NAME: ELKHORN CREEK SE
QUADRANT: NW
WEST_LONGITUDE: -104 7 30.00000
EAST_LONGITUDE: -104 3 45.00000
NORTH_LATITUDE: 45 7 30.00000
SOUTH_LATITUDE: 45 3 45.00000
PRODUCTION_DATE: 2000 9 19
RASTER_ORDER: LEFT_RIGHT/TOP_BOTTOM
BAND_ORGANIZATION: SINGLE FILE
BAND_CONTENT: BLACK&WHITE
BAND_CONTENT: UNDEFINED
BAND_CONTENT: UNDEFINED
BITS_PER_PIXEL: 8
SAMPLES_AND_LINES: 5637 7603
HORIZONTAL_DATUM: NAD83
HORIZONTAL_COORDINATE_SYSTEM: UTM
COORDINATE_ZONE: 13
HORIZONTAL_UNITS: METERS
HORIZONTAL_RESOLUTION: 1.00000
SECONDARY_HORIZONTAL_DATUM: NAD27
XY_ORIGIN: 568473.00000 4997564.00000
SECONDARY_XY_ORIGIN: 568514.07400 4997348.45900
NATION: US
NATION: "SCIENCE
STATE: MT
NW_QUAD_CORNER_XY: 568813.26200 4997208.83800
NE_QUAD_CORNER_XY: 573728.49400 4997263.93600
SE_QUAD_CORNERY_XY: 573808.96400 4990320.86600
SW_QUAD_CORNER_XY: 568888.36700 4990265.76700
SECONDARY_NW_QUAD_XY: 568815.29900 4996991.54900
SECONDARY_NE_QUAD_XY: 573730.67600 4997046.64900
SECONDARY_SE_QUAD_XY: 573811.14600 4990103.63200
SECONDARY_SW_QUAD_XY: 568890.40300 4990048.53200
RMSE_XY: 0.80000
IMAGE_SOURCE: BLACK AND WHITE FILM
SOURCE_IMAGE_ID: NAPP 9087 067
SOURCE_IMAGE_DATE: 1996 07 03
SOURCE_IMAGE_ID: NAPP 9087 068
SOURCE_IMAGE_DATE: 1996 07 03
SOURCE_DEM_DATE: 1972 00 00
AGENCY: WESTERN MAPPING CENTER (WMC)
PRODUCER: UNDEFINED
PRODUCTION_SYSTEM: GIS/MAGIC
COMPRESSION: UNDEFINED
STANDARD_VERSION: 1996 12
METADATA_DATE: 2000 09 19
DATA_FILE_SIZE: 42863748
BYTE_COUNT: 5637
