FILENAME: O4510464.SWS.1104008.tif
QUADRANGLE_NAME: ELKHORN CREEK SE
QUADRANT: SW
WEST_LONGITUDE: -104 7 30.00000
EAST_LONGITUDE: -104 3 45.00000
NORTH_LATITUDE: 45 3 45.00000
SOUTH_LATITUDE: 45 0 0.00000
PRODUCTION_DATE: 2000 9 12
RASTER_ORDER: LEFT_RIGHT/TOP_BOTTOM
BAND_ORGANIZATION: SINGLE FILE
BAND_CONTENT: BLACK&WHITE
BAND_CONTENT: UNDEFINED
BAND_CONTENT: UNDEFINED
BITS_PER_PIXEL: 8
SAMPLES_AND_LINES: 5643 7603
HORIZONTAL_DATUM: NAD83
HORIZONTAL_COORDINATE_SYSTEM: UTM
COORDINATE_ZONE: 13
HORIZONTAL_UNITS: METERS
HORIZONTAL_RESOLUTION: 1.00000
SECONDARY_HORIZONTAL_DATUM: NAD27
XY_ORIGIN: 568548.00000 4990621.00000
SECONDARY_XY_ORIGIN: 568589.10100 4990405.55800
NATION: US
NATION: "SCIENCE
STATE: MT
NW_QUAD_CORNER_XY: 568888.36700 4990265.76700
NE_QUAD_CORNER_XY: 573808.96400 4990320.86600
SE_QUAD_CORNERY_XY: 573889.34600 4983377.86900
SW_QUAD_CORNER_XY: 568963.38900 4983322.77100
SECONDARY_NW_QUAD_XY: 568890.40300 4990048.53200
SECONDARY_NE_QUAD_XY: 573811.14600 4990103.63200
SECONDARY_SE_QUAD_XY: 573891.52700 4983160.69100
SECONDARY_SW_QUAD_XY: 568965.42400 4983105.59100
RMSE_XY: 1.30000
IMAGE_SOURCE: BLACK AND WHITE FILM
SOURCE_IMAGE_ID: NAPP 9087 069
SOURCE_IMAGE_DATE: 1996 07 03
SOURCE_IMAGE_ID: NAPP 9087 070
SOURCE_IMAGE_DATE: 1996 07 03
SOURCE_IMAGE_ID: NAPP 10766 012
SOURCE_IMAGE_DATE: 1998 07 10
SOURCE_DEM_DATE: 1972 00 00
AGENCY: WESTERN MAPPING CENTER (WMC)
PRODUCER: UNDEFINED
PRODUCTION_SYSTEM: GIS/MAGIC
COMPRESSION: UNDEFINED
STANDARD_VERSION: 1996 12
METADATA_DATE: 2000 09 19
DATA_FILE_SIZE: 42909372
BYTE_COUNT: 5643
