FILENAME: O4510463.SES.1167537.tif
QUADRANGLE_NAME: ELKHORN CREEK SW
QUADRANT: SE
WEST_LONGITUDE: -104 11 15.00000
EAST_LONGITUDE: -104 7 30.00000
NORTH_LATITUDE: 45 3 45.00000
SOUTH_LATITUDE: 45 0 0.00000
PRODUCTION_DATE: 2001 11 15
RASTER_ORDER: LEFT_RIGHT/TOP_BOTTOM
BAND_ORGANIZATION: SINGLE FILE
BAND_CONTENT: BLACK&WHITE
BAND_CONTENT: UNDEFINED
BAND_CONTENT: UNDEFINED
BITS_PER_PIXEL: 8
SAMPLES_AND_LINES: 5637 7599
HORIZONTAL_DATUM: NAD83
HORIZONTAL_COORDINATE_SYSTEM: UTM
COORDINATE_ZONE: 13
HORIZONTAL_UNITS: METERS
HORIZONTAL_RESOLUTION: 1.00000
SECONDARY_HORIZONTAL_DATUM: NAD27
XY_ORIGIN: 563628.00000 4990567.00000
SECONDARY_XY_ORIGIN: 563669.00000 4990352.00000
NATION: US
STATE: MT
NW_QUAD_CORNER_XY: 563967.76900 4990214.47000
NE_QUAD_CORNER_XY: 568888.36700 4990265.76800
SE_QUAD_CORNERY_XY: 568963.38900 4983322.77100
SW_QUAD_CORNER_XY: 564037.43200 4983271.47400
SECONDARY_NW_QUAD_XY: 563969.66000 4989997.23400
SECONDARY_NE_QUAD_XY: 568890.40300 4990048.53300
SECONDARY_SE_QUAD_XY: 568965.42400 4983105.59200
SECONDARY_SW_QUAD_XY: 564039.32200 4983054.29200
RMSE_XY: 1.00000
IMAGE_SOURCE: BLACK AND WHITE FILM
SOURCE_IMAGE_ID: NAPP 9104 6
SOURCE_IMAGE_DATE: 1996 7 29
SOURCE_DEM_DATE: 1972 00 00
AGENCY: ROCKY MOUNTAIN MAPPING CENTER (RMMC)
PRODUCER: ROCKY MOUNTAIN MAPPING CENTER (RMMC)
PRODUCTION_SYSTEM: DV2.6.4 1/00 OV2.6 6/00
COMPRESSION: UNDEFINED
STANDARD_VERSION: 1996 12
METADATA_DATE: 2001 11 15
DATA_FILE_SIZE: 42841200
BYTE_COUNT: 5637
