FILENAME: O4510463.SWS.1167538.tif
QUADRANGLE_NAME: ELKHORN CREEK SW
QUADRANT: SW
WEST_LONGITUDE: -104 15 0.00000
EAST_LONGITUDE: -104 11 15.00000
NORTH_LATITUDE: 45 3 45.00000
SOUTH_LATITUDE: 45 0 0.00000
PRODUCTION_DATE: 2001 11 15
RASTER_ORDER: LEFT_RIGHT/TOP_BOTTOM
BAND_ORGANIZATION: SINGLE FILE
BAND_CONTENT: BLACK&WHITE
BAND_CONTENT: UNDEFINED
BAND_CONTENT: UNDEFINED
BITS_PER_PIXEL: 8
SAMPLES_AND_LINES: 5632 7595
HORIZONTAL_DATUM: NAD83
HORIZONTAL_COORDINATE_SYSTEM: UTM
COORDINATE_ZONE: 13
HORIZONTAL_UNITS: METERS
HORIZONTAL_RESOLUTION: 1.00000
SECONDARY_HORIZONTAL_DATUM: NAD27
XY_ORIGIN: 558707.00000 4990515.00000
SECONDARY_XY_ORIGIN: 558748.22000 4990299.53800
NATION: US
STATE: MT
NW_QUAD_CORNER_XY: 559047.17200 4990166.97300
NE_QUAD_CORNER_XY: 563967.76900 4990214.47000
SE_QUAD_CORNERY_XY: 564037.43200 4983271.47400
SW_QUAD_CORNER_XY: 559111.47500 4983223.97600
SECONDARY_NW_QUAD_XY: 559048.91700 4989949.73500
SECONDARY_NE_QUAD_XY: 563969.66000 4989997.23400
SECONDARY_SE_QUAD_XY: 564039.32200 4983054.29200
SECONDARY_SW_QUAD_XY: 559113.22000 4983006.79400
RMSE_XY: 1.40000
IMAGE_SOURCE: BLACK AND WHITE FILM
SOURCE_IMAGE_ID: NAPP 9087 80
SOURCE_IMAGE_DATE: 1996 7 30
SOURCE_DEM_DATE: 1972 00 00
AGENCY: ROCKY MOUNTAIN MAPPING CENTER (RMMC)
PRODUCER: ROCKY MOUNTAIN MAPPING CENTER (RMMC)
PRODUCTION_SYSTEM: DV2.6.4 1/00 OV2.6 6/00
COMPRESSION: UNDEFINED
STANDARD_VERSION: 1996 12
METADATA_DATE: 2001 11 15
DATA_FILE_SIZE: 42780672
BYTE_COUNT: 5632
