FILENAME: O4510462.SWS.1167534.tif
QUADRANGLE_NAME: SEVENMILE CREEK
QUADRANT: SW
WEST_LONGITUDE: -104 22 30.00000
EAST_LONGITUDE: -104 18 45.00000
NORTH_LATITUDE: 45 3 45.00000
SOUTH_LATITUDE: 45 0 0.00000
PRODUCTION_DATE: 2001 11 15
RASTER_ORDER: LEFT_RIGHT/TOP_BOTTOM
BAND_ORGANIZATION: SINGLE FILE
BAND_CONTENT: BLACK&WHITE
BAND_CONTENT: UNDEFINED
BAND_CONTENT: UNDEFINED
BITS_PER_PIXEL: 8
SAMPLES_AND_LINES: 5623 7587
HORIZONTAL_DATUM: NAD83
HORIZONTAL_COORDINATE_SYSTEM: UTM
COORDINATE_ZONE: 13
HORIZONTAL_UNITS: METERS
HORIZONTAL_RESOLUTION: 1.00000
SECONDARY_HORIZONTAL_DATUM: NAD27
XY_ORIGIN: 548865.00000 4990424.00000
SECONDARY_XY_ORIGIN: 548906.34000 4990208.50700
NATION: US
STATE: MT
NW_QUAD_CORNER_XY: 549205.97700 4990083.37800
NE_QUAD_CORNER_XY: 554126.57400 4990123.27500
SE_QUAD_CORNERY_XY: 554185.51800 4983180.27900
SW_QUAD_CORNER_XY: 549259.56200 4983140.38200
SECONDARY_NW_QUAD_XY: 549207.43100 4989866.13800
SECONDARY_NE_QUAD_XY: 554128.17400 4989906.03600
SECONDARY_SE_QUAD_XY: 554187.11800 4982963.09500
SECONDARY_SW_QUAD_XY: 549261.01600 4982923.19700
RMSE_XY: 1.70000
IMAGE_SOURCE: BLACK AND WHITE FILM
SOURCE_IMAGE_ID: NAPP 10724 62
SOURCE_IMAGE_DATE: 1997 8 30
SOURCE_DEM_DATE: 1972 00 00
AGENCY: ROCKY MOUNTAIN MAPPING CENTER (RMMC)
PRODUCER: ROCKY MOUNTAIN MAPPING CENTER (RMMC)
PRODUCTION_SYSTEM: DV2.6.4 1/00 OV2.6 6/00
COMPRESSION: UNDEFINED
STANDARD_VERSION: 1996 12
METADATA_DATE: 2001 11 15
DATA_FILE_SIZE: 42667324
BYTE_COUNT: 5623
