FILENAME: O4510461.SES.1167519.tif
QUADRANGLE_NAME: ALZADA
QUADRANT: SE
WEST_LONGITUDE: -104 26 15.00000
EAST_LONGITUDE: -104 22 30.00000
NORTH_LATITUDE: 45 3 45.00000
SOUTH_LATITUDE: 45 0 0.00000
PRODUCTION_DATE: 2001 11 15
RASTER_ORDER: LEFT_RIGHT/TOP_BOTTOM
BAND_ORGANIZATION: SINGLE FILE
BAND_CONTENT: BLACK&WHITE
BAND_CONTENT: UNDEFINED
BAND_CONTENT: UNDEFINED
BITS_PER_PIXEL: 8
SAMPLES_AND_LINES: 5618 7584
HORIZONTAL_DATUM: NAD83
HORIZONTAL_COORDINATE_SYSTEM: UTM
COORDINATE_ZONE: 13
HORIZONTAL_UNITS: METERS
HORIZONTAL_RESOLUTION: 1.00000
SECONDARY_HORIZONTAL_DATUM: NAD27
XY_ORIGIN: 543944.00000 4990384.00000
SECONDARY_XY_ORIGIN: 543985.40000 4990168.49100
NATION: US
STATE: MT
NW_QUAD_CORNER_XY: 544285.37900 4990047.28100
NE_QUAD_CORNER_XY: 549205.97700 4990083.37800
SE_QUAD_CORNERY_XY: 549259.56200 4983140.38200
SW_QUAD_CORNER_XY: 544333.60500 4983104.28500
SECONDARY_NW_QUAD_XY: 544286.68800 4989830.04000
SECONDARY_NE_QUAD_XY: 549207.43100 4989866.13800
SECONDARY_SE_QUAD_XY: 549261.01600 4982923.19700
SECONDARY_SW_QUAD_XY: 544334.91400 4982887.09900
RMSE_XY: 1.40000
IMAGE_SOURCE: BLACK AND WHITE FILM
SOURCE_IMAGE_ID: NAPP 10724 141
SOURCE_IMAGE_DATE: 1997 8 30
SOURCE_DEM_DATE: 1972 00 00
AGENCY: ROCKY MOUNTAIN MAPPING CENTER (RMMC)
PRODUCER: ROCKY MOUNTAIN MAPPING CENTER (RMMC)
PRODUCTION_SYSTEM: DV2.6.4 1/00 OV2.6 6/00
COMPRESSION: UNDEFINED
STANDARD_VERSION: 1996 12
METADATA_DATE: 2001 11 15
DATA_FILE_SIZE: 42612530
BYTE_COUNT: 5618
