FILENAME: O4510460.SWS.1167516.tif
QUADRANGLE_NAME: GOMER DRAW
QUADRANT: SW
WEST_LONGITUDE: -104 37 30.00000
EAST_LONGITUDE: -104 33 45.00000
NORTH_LATITUDE: 45 3 45.00000
SOUTH_LATITUDE: 45 0 0.00000
PRODUCTION_DATE: 2001 11 15
RASTER_ORDER: LEFT_RIGHT/TOP_BOTTOM
BAND_ORGANIZATION: SINGLE FILE
BAND_CONTENT: BLACK&WHITE
BAND_CONTENT: UNDEFINED
BAND_CONTENT: UNDEFINED
BITS_PER_PIXEL: 8
SAMPLES_AND_LINES: 5602 7572
HORIZONTAL_DATUM: NAD83
HORIZONTAL_COORDINATE_SYSTEM: UTM
COORDINATE_ZONE: 13
HORIZONTAL_UNITS: METERS
HORIZONTAL_RESOLUTION: 1.00000
SECONDARY_HORIZONTAL_DATUM: NAD27
XY_ORIGIN: 529182.00000 4990287.00000
SECONDARY_XY_ORIGIN: 529223.61800 4990071.45900
NATION: US
STATE: MT
NW_QUAD_CORNER_XY: 529523.58600 4989961.78900
NE_QUAD_CORNER_XY: 534444.18400 4989986.48600
SE_QUAD_CORNERY_XY: 534481.69300 4983043.49000
SW_QUAD_CORNER_XY: 529555.73600 4983018.79300
SECONDARY_NW_QUAD_XY: 529524.45900 4989744.54500
SECONDARY_NE_QUAD_XY: 534445.20200 4989769.24300
SECONDARY_SE_QUAD_XY: 534482.71000 4982826.30200
SECONDARY_SW_QUAD_XY: 529556.60900 4982801.60400
RMSE_XY: 1.50000
IMAGE_SOURCE: BLACK AND WHITE FILM
SOURCE_IMAGE_ID: NAPP 9105 10
SOURCE_IMAGE_DATE: 1996 8 1
SOURCE_DEM_DATE: 1973 00 00
AGENCY: ROCKY MOUNTAIN MAPPING CENTER (RMMC)
PRODUCER: ROCKY MOUNTAIN MAPPING CENTER (RMMC)
PRODUCTION_SYSTEM: DV2.6.4 1/00 OV2.6 6/00
COMPRESSION: UNDEFINED
STANDARD_VERSION: 1996 12
METADATA_DATE: 2001 11 15
DATA_FILE_SIZE: 42423946
BYTE_COUNT: 5602
