FILENAME: O4510459.NES.1167509.tif
QUADRANGLE_NAME: COCHRAN RESERVOIR
QUADRANT: NE
WEST_LONGITUDE: -104 41 15.00000
EAST_LONGITUDE: -104 37 30.00000
NORTH_LATITUDE: 45 7 30.00000
SOUTH_LATITUDE: 45 3 45.00000
PRODUCTION_DATE: 2001 11 15
RASTER_ORDER: LEFT_RIGHT/TOP_BOTTOM
BAND_ORGANIZATION: SINGLE FILE
BAND_CONTENT: BLACK&WHITE
BAND_CONTENT: UNDEFINED
BAND_CONTENT: UNDEFINED
BITS_PER_PIXEL: 8
SAMPLES_AND_LINES: 5592 7569
HORIZONTAL_DATUM: NAD83
HORIZONTAL_COORDINATE_SYSTEM: UTM
COORDINATE_ZONE: 13
HORIZONTAL_UNITS: METERS
HORIZONTAL_RESOLUTION: 1.00000
SECONDARY_HORIZONTAL_DATUM: NAD27
XY_ORIGIN: 524234.00000 4997206.00000
SECONDARY_XY_ORIGIN: 524275.62500 4996990.34100
NATION: US
STATE: MT
NW_QUAD_CORNER_XY: 524576.16700 4996883.96300
NE_QUAD_CORNER_XY: 529491.40100 4996904.86100
SE_QUAD_CORNERY_XY: 529523.58600 4989961.78900
SW_QUAD_CORNER_XY: 524602.98900 4989940.89100
SECONDARY_NW_QUAD_XY: 524576.89500 4996666.66400
SECONDARY_NE_QUAD_XY: 529492.27400 4996687.56300
SECONDARY_SE_QUAD_XY: 529524.45900 4989744.54500
SECONDARY_SW_QUAD_XY: 524603.71600 4989723.64600
RMSE_XY: 1.00000
IMAGE_SOURCE: BLACK AND WHITE FILM
SOURCE_IMAGE_ID: NAPP 9107 73
SOURCE_IMAGE_DATE: 1996 8 7
SOURCE_DEM_DATE: 1973 00 00
AGENCY: ROCKY MOUNTAIN MAPPING CENTER (RMMC)
PRODUCER: ROCKY MOUNTAIN MAPPING CENTER (RMMC)
PRODUCTION_SYSTEM: DV2.6.4 1/00 OV2.6 6/00
COMPRESSION: UNDEFINED
STANDARD_VERSION: 1996 12
METADATA_DATE: 2001 11 15
DATA_FILE_SIZE: 42331440
BYTE_COUNT: 5592
