FILENAME: O4510459.NWS.1167510.tif
QUADRANGLE_NAME: COCHRAN RESERVOIR
QUADRANT: NW
WEST_LONGITUDE: -104 45 0.00000
EAST_LONGITUDE: -104 41 15.00000
NORTH_LATITUDE: 45 7 30.00000
SOUTH_LATITUDE: 45 3 45.00000
PRODUCTION_DATE: 2001 11 15
RASTER_ORDER: LEFT_RIGHT/TOP_BOTTOM
BAND_ORGANIZATION: SINGLE FILE
BAND_CONTENT: BLACK&WHITE
BAND_CONTENT: UNDEFINED
BAND_CONTENT: UNDEFINED
BITS_PER_PIXEL: 8
SAMPLES_AND_LINES: 5586 7565
HORIZONTAL_DATUM: NAD83
HORIZONTAL_COORDINATE_SYSTEM: UTM
COORDINATE_ZONE: 13
HORIZONTAL_UNITS: METERS
HORIZONTAL_RESOLUTION: 1.00000
SECONDARY_HORIZONTAL_DATUM: NAD27
XY_ORIGIN: 519319.00000 4997185.00000
SECONDARY_XY_ORIGIN: 519360.69800 4996969.33500
NATION: US
STATE: MT
NW_QUAD_CORNER_XY: 519660.93400 4996866.86500
NE_QUAD_CORNER_XY: 524576.16700 4996883.96300
SE_QUAD_CORNERY_XY: 524602.98900 4989940.89100
SW_QUAD_CORNER_XY: 519682.39100 4989923.79300
SECONDARY_NW_QUAD_XY: 519661.51600 4996649.56600
SECONDARY_NE_QUAD_XY: 524576.89500 4996666.66400
SECONDARY_SE_QUAD_XY: 524603.71600 4989723.64600
SECONDARY_SW_QUAD_XY: 519682.97300 4989706.54800
RMSE_XY: 1.00000
IMAGE_SOURCE: BLACK AND WHITE FILM
SOURCE_IMAGE_ID: NAPP 9107 58
SOURCE_IMAGE_DATE: 1996 8 7
SOURCE_DEM_DATE: 1973 00 00
AGENCY: ROCKY MOUNTAIN MAPPING CENTER (RMMC)
PRODUCER: ROCKY MOUNTAIN MAPPING CENTER (RMMC)
PRODUCTION_SYSTEM: DV2.6.4 1/00 OV2.6 6/00
COMPRESSION: UNDEFINED
STANDARD_VERSION: 1996 12
METADATA_DATE: 2001 11 15
DATA_FILE_SIZE: 42263676
BYTE_COUNT: 5586
