FILENAME: O4510459.SES.1167511.tif
QUADRANGLE_NAME: COCHRAN RESERVOIR
QUADRANT: SE
WEST_LONGITUDE: -104 41 15.00000
EAST_LONGITUDE: -104 37 30.00000
NORTH_LATITUDE: 45 3 45.00000
SOUTH_LATITUDE: 45 0 0.00000
PRODUCTION_DATE: 2001 11 15
RASTER_ORDER: LEFT_RIGHT/TOP_BOTTOM
BAND_ORGANIZATION: SINGLE FILE
BAND_CONTENT: BLACK&WHITE
BAND_CONTENT: UNDEFINED
BAND_CONTENT: UNDEFINED
BITS_PER_PIXEL: 8
SAMPLES_AND_LINES: 5597 7569
HORIZONTAL_DATUM: NAD83
HORIZONTAL_COORDINATE_SYSTEM: UTM
COORDINATE_ZONE: 13
HORIZONTAL_UNITS: METERS
HORIZONTAL_RESOLUTION: 1.00000
SECONDARY_HORIZONTAL_DATUM: NAD27
XY_ORIGIN: 524261.00000 4990263.00000
SECONDARY_XY_ORIGIN: 524302.69700 4990047.45100
NATION: US
STATE: MT
NW_QUAD_CORNER_XY: 524602.98900 4989940.89100
NE_QUAD_CORNER_XY: 529523.58600 4989961.78900
SE_QUAD_CORNERY_XY: 529555.73600 4983018.79300
SW_QUAD_CORNER_XY: 524629.78000 4982997.89500
SECONDARY_NW_QUAD_XY: 524603.71600 4989723.64600
SECONDARY_NE_QUAD_XY: 529524.45900 4989744.54500
SECONDARY_SE_QUAD_XY: 529556.60900 4982801.60400
SECONDARY_SW_QUAD_XY: 524630.50700 4982780.70600
RMSE_XY: 1.10000
IMAGE_SOURCE: BLACK AND WHITE FILM
SOURCE_IMAGE_ID: NAPP 9107 71
SOURCE_IMAGE_DATE: 1996 8 7
SOURCE_DEM_DATE: 1973 00 00
AGENCY: ROCKY MOUNTAIN MAPPING CENTER (RMMC)
PRODUCER: ROCKY MOUNTAIN MAPPING CENTER (RMMC)
PRODUCTION_SYSTEM: DV2.6.4 1/00 OV2.6 6/00
COMPRESSION: UNDEFINED
STANDARD_VERSION: 1996 12
METADATA_DATE: 2001 11 15
DATA_FILE_SIZE: 42369290
BYTE_COUNT: 5597
