FILENAME: O4510458.NWS.1167497.tif
QUADRANGLE_NAME: HAMMOND SE
QUADRANT: NW
WEST_LONGITUDE: -104 52 30.00000
EAST_LONGITUDE: -104 48 45.00000
NORTH_LATITUDE: 45 7 30.00000
SOUTH_LATITUDE: 45 3 45.00000
PRODUCTION_DATE: 2001 11 15
RASTER_ORDER: LEFT_RIGHT/TOP_BOTTOM
BAND_ORGANIZATION: SINGLE FILE
BAND_CONTENT: BLACK&WHITE
BAND_CONTENT: UNDEFINED
BAND_CONTENT: UNDEFINED
BITS_PER_PIXEL: 8
SAMPLES_AND_LINES: 5576 7558
HORIZONTAL_DATUM: NAD83
HORIZONTAL_COORDINATE_SYSTEM: UTM
COORDINATE_ZONE: 13
HORIZONTAL_UNITS: METERS
HORIZONTAL_RESOLUTION: 1.00000
SECONDARY_HORIZONTAL_DATUM: NAD27
XY_ORIGIN: 509488.00000 4997155.00000
SECONDARY_XY_ORIGIN: 509530.00000 4996940.00000
NATION: US
STATE: MT
NW_QUAD_CORNER_XY: 509830.46700 4996844.06800
NE_QUAD_CORNER_XY: 514745.70100 4996853.56700
SE_QUAD_CORNERY_XY: 514761.79300 4989910.49400
SW_QUAD_CORNER_XY: 509841.19500 4989900.99500
SECONDARY_NW_QUAD_XY: 509830.75800 4996626.76800
SECONDARY_NE_QUAD_XY: 514746.13700 4996636.26700
SECONDARY_SE_QUAD_XY: 514762.22900 4989693.24900
SECONDARY_SW_QUAD_XY: 509841.48600 4989683.75000
RMSE_XY: 1.20000
IMAGE_SOURCE: BLACK AND WHITE FILM
SOURCE_IMAGE_ID: NAPP 10762 72
SOURCE_IMAGE_DATE: 1997 9 5
SOURCE_DEM_DATE: 1969 00 00
AGENCY: ROCKY MOUNTAIN MAPPING CENTER (RMMC)
PRODUCER: ROCKY MOUNTAIN MAPPING CENTER (RMMC)
PRODUCTION_SYSTEM: DV2.6.4 1/00 OV2.6 6/00
COMPRESSION: UNDEFINED
STANDARD_VERSION: 1996 12
METADATA_DATE: 2001 11 15
DATA_FILE_SIZE: 42148984
BYTE_COUNT: 5576
