FILENAME: O4510457.SWS.1167495.tif
QUADRANGLE_NAME: STACK ROCKS
QUADRANT: SW
WEST_LONGITUDE: -105 0 0.00000
EAST_LONGITUDE: -104 56 15.00000
NORTH_LATITUDE: 45 3 45.00000
SOUTH_LATITUDE: 45 0 0.00000
PRODUCTION_DATE: 2001 11 15
RASTER_ORDER: LEFT_RIGHT/TOP_BOTTOM
BAND_ORGANIZATION: SINGLE FILE
BAND_CONTENT: BLACK&WHITE
BAND_CONTENT: UNDEFINED
BAND_CONTENT: UNDEFINED
BITS_PER_PIXEL: 8
SAMPLES_AND_LINES: 5571 7549
HORIZONTAL_DATUM: NAD83
HORIZONTAL_COORDINATE_SYSTEM: UTM
COORDINATE_ZONE: 13
HORIZONTAL_UNITS: METERS
HORIZONTAL_RESOLUTION: 1.00000
SECONDARY_HORIZONTAL_DATUM: NAD27
XY_ORIGIN: 499657.00000 4990196.00000
SECONDARY_XY_ORIGIN: 499699.05600 4989980.40600
NATION: US
STATE: MT
STATE: WY
NW_QUAD_CORNER_XY: 500000.00000 4989893.39600
NE_QUAD_CORNER_XY: 504920.59800 4989895.29600
SE_QUAD_CORNERY_XY: 504925.95600 4982952.30000
SW_QUAD_CORNER_XY: 500000.00000 4982950.40000
SECONDARY_NW_QUAD_XY: 500000.00000 4989676.15000
SECONDARY_NE_QUAD_XY: 504920.74300 4989678.05000
SECONDARY_SE_QUAD_XY: 504926.10100 4982735.10900
SECONDARY_SW_QUAD_XY: 500000.00000 4982733.20900
RMSE_XY: 1.30000
IMAGE_SOURCE: BLACK AND WHITE FILM
SOURCE_IMAGE_ID: NAPP 9117 128
SOURCE_IMAGE_DATE: 1996 8 27
SOURCE_DEM_DATE: 1969 00 00
AGENCY: ROCKY MOUNTAIN MAPPING CENTER (RMMC)
PRODUCER: ROCKY MOUNTAIN MAPPING CENTER (RMMC)
PRODUCTION_SYSTEM: DV2.6.4 1/00 OV2.6 6/00
COMPRESSION: UNDEFINED
STANDARD_VERSION: 1996 12
METADATA_DATE: 2001 11 15
DATA_FILE_SIZE: 42061050
BYTE_COUNT: 5571
