FILENAME: O4510454.NWS.1167479.tif
QUADRANGLE_NAME: ALBION
QUADRANT: NW
WEST_LONGITUDE: -104 22 30.00000
EAST_LONGITUDE: -104 18 45.00000
NORTH_LATITUDE: 45 15 0.00000
SOUTH_LATITUDE: 45 11 15.00000
PRODUCTION_DATE: 2001 11 15
RASTER_ORDER: LEFT_RIGHT/TOP_BOTTOM
BAND_ORGANIZATION: SINGLE FILE
BAND_CONTENT: BLACK&WHITE
BAND_CONTENT: UNDEFINED
BAND_CONTENT: UNDEFINED
BITS_PER_PIXEL: 8
SAMPLES_AND_LINES: 5606 7588
HORIZONTAL_DATUM: NAD83
HORIZONTAL_COORDINATE_SYSTEM: UTM
COORDINATE_ZONE: 13
HORIZONTAL_UNITS: METERS
HORIZONTAL_RESOLUTION: 1.00000
SECONDARY_HORIZONTAL_DATUM: NAD27
XY_ORIGIN: 548704.00000 5011254.00000
SECONDARY_XY_ORIGIN: 548745.00000 5011038.00000
NATION: US
STATE: MT
NW_QUAD_CORNER_XY: 549044.86800 5010912.81900
NE_QUAD_CORNER_XY: 553949.35400 5010952.71500
SE_QUAD_CORNERY_XY: 554008.49200 5004009.49300
SW_QUAD_CORNER_XY: 549098.63000 5003969.59700
SECONDARY_NW_QUAD_XY: 549046.32400 5010695.41800
SECONDARY_NE_QUAD_XY: 553950.95500 5010735.31600
SECONDARY_SE_QUAD_XY: 554010.09300 5003792.14600
SECONDARY_SW_QUAD_XY: 549100.08500 5003752.24900
RMSE_XY: 1.50000
IMAGE_SOURCE: BLACK AND WHITE FILM
SOURCE_IMAGE_ID: NAPP 10724 68
SOURCE_IMAGE_DATE: 1997 8 30
SOURCE_DEM_DATE: 1972 00 00
AGENCY: ROCKY MOUNTAIN MAPPING CENTER (RMMC)
PRODUCER: ROCKY MOUNTAIN MAPPING CENTER (RMMC)
PRODUCTION_SYSTEM: DV2.6.4 1/00 OV2.6 6/00
COMPRESSION: UNDEFINED
STANDARD_VERSION: 1996 12
METADATA_DATE: 2001 11 15
DATA_FILE_SIZE: 42543934
BYTE_COUNT: 5606
