FILENAME: O4510454.SES.1167480.tif
QUADRANGLE_NAME: ALBION
QUADRANT: SE
WEST_LONGITUDE: -104 18 45.00000
EAST_LONGITUDE: -104 15 0.00000
NORTH_LATITUDE: 45 11 15.00000
SOUTH_LATITUDE: 45 7 30.00000
PRODUCTION_DATE: 2001 11 15
RASTER_ORDER: LEFT_RIGHT/TOP_BOTTOM
BAND_ORGANIZATION: SINGLE FILE
BAND_CONTENT: BLACK&WHITE
BAND_CONTENT: UNDEFINED
BAND_CONTENT: UNDEFINED
BITS_PER_PIXEL: 8
SAMPLES_AND_LINES: 5617 7591
HORIZONTAL_DATUM: NAD83
HORIZONTAL_COORDINATE_SYSTEM: UTM
COORDINATE_ZONE: 13
HORIZONTAL_UNITS: METERS
HORIZONTAL_RESOLUTION: 1.00000
SECONDARY_HORIZONTAL_DATUM: NAD27
XY_ORIGIN: 553668.00000 5004354.00000
SECONDARY_XY_ORIGIN: 553709.00000 5004139.00000
NATION: US
STATE: MT
NW_QUAD_CORNER_XY: 554008.49200 5004009.49300
NE_QUAD_CORNER_XY: 558918.35400 5004053.19000
SE_QUAD_CORNERY_XY: 558982.79800 4997110.04400
SW_QUAD_CORNER_XY: 554067.56600 4997066.34700
SECONDARY_NW_QUAD_XY: 554010.09300 5003792.14600
SECONDARY_NE_QUAD_XY: 558920.10000 5003835.84400
SECONDARY_SE_QUAD_XY: 558984.54400 4996892.75200
SECONDARY_SW_QUAD_XY: 554069.16600 4996849.05300
RMSE_XY: 1.30000
IMAGE_SOURCE: BLACK AND WHITE FILM
SOURCE_IMAGE_ID: NAPP 10724 47
SOURCE_IMAGE_DATE: 1997 8 30
SOURCE_DEM_DATE: 1972 00 00
AGENCY: ROCKY MOUNTAIN MAPPING CENTER (RMMC)
PRODUCER: ROCKY MOUNTAIN MAPPING CENTER (RMMC)
PRODUCTION_SYSTEM: DV2.6.4 1/00 OV2.6 6/00
COMPRESSION: UNDEFINED
STANDARD_VERSION: 1996 12
METADATA_DATE: 2001 11 15
DATA_FILE_SIZE: 42644264
BYTE_COUNT: 5617
