FILENAME: O4510453.NWS.1167475.tif
QUADRANGLE_NAME: ALZADA NW
QUADRANT: NW
WEST_LONGITUDE: -104 30 0.00000
EAST_LONGITUDE: -104 26 15.00000
NORTH_LATITUDE: 45 15 0.00000
SOUTH_LATITUDE: 45 11 15.00000
PRODUCTION_DATE: 2001 11 16
RASTER_ORDER: LEFT_RIGHT/TOP_BOTTOM
BAND_ORGANIZATION: SINGLE FILE
BAND_CONTENT: BLACK&WHITE
BAND_CONTENT: UNDEFINED
BAND_CONTENT: UNDEFINED
BITS_PER_PIXEL: 8
SAMPLES_AND_LINES: 5596 7580
HORIZONTAL_DATUM: NAD83
HORIZONTAL_COORDINATE_SYSTEM: UTM
COORDINATE_ZONE: 13
HORIZONTAL_UNITS: METERS
HORIZONTAL_RESOLUTION: 1.00000
SECONDARY_HORIZONTAL_DATUM: NAD27
XY_ORIGIN: 538895.00000 5011178.00000
SECONDARY_XY_ORIGIN: 538936.00000 5010963.00000
NATION: US
STATE: MT
NW_QUAD_CORNER_XY: 539235.89700 5010844.42700
NE_QUAD_CORNER_XY: 544140.38300 5010876.72300
SE_QUAD_CORNERY_XY: 544188.76800 5003933.50000
SW_QUAD_CORNER_XY: 539278.90500 5003901.20300
SECONDARY_NW_QUAD_XY: 539237.06100 5010627.02400
SECONDARY_NE_QUAD_XY: 544141.69300 5010659.32100
SECONDARY_SE_QUAD_XY: 544190.07700 5003716.15100
SECONDARY_SW_QUAD_XY: 539280.06900 5003683.85300
RMSE_XY: 1.10000
IMAGE_SOURCE: BLACK AND WHITE FILM
SOURCE_IMAGE_ID: NAPP 10724 158
SOURCE_IMAGE_DATE: 1997 8 30
SOURCE_DEM_DATE: 1972 00 00
AGENCY: ROCKY MOUNTAIN MAPPING CENTER (RMMC)
PRODUCER: ROCKY MOUNTAIN MAPPING CENTER (RMMC)
PRODUCTION_SYSTEM: DV2.6.4 1/00 OV2.6 6/00
COMPRESSION: UNDEFINED
STANDARD_VERSION: 1996 12
METADATA_DATE: 2001 11 16
DATA_FILE_SIZE: 42423276
BYTE_COUNT: 5596
