FILENAME: O4510452.SWS.1167473.tif
QUADRANGLE_NAME: BLACK POINT NE
QUADRANT: SW
WEST_LONGITUDE: -104 37 30.00000
EAST_LONGITUDE: -104 33 45.00000
NORTH_LATITUDE: 45 11 15.00000
SOUTH_LATITUDE: 45 7 30.00000
PRODUCTION_DATE: 2001 11 16
RASTER_ORDER: LEFT_RIGHT/TOP_BOTTOM
BAND_ORGANIZATION: SINGLE FILE
BAND_CONTENT: BLACK&WHITE
BAND_CONTENT: UNDEFINED
BAND_CONTENT: UNDEFINED
BITS_PER_PIXEL: 8
SAMPLES_AND_LINES: 5591 7573
HORIZONTAL_DATUM: NAD83
HORIZONTAL_COORDINATE_SYSTEM: UTM
COORDINATE_ZONE: 13
HORIZONTAL_UNITS: METERS
HORIZONTAL_RESOLUTION: 1.00000
SECONDARY_HORIZONTAL_DATUM: NAD27
XY_ORIGIN: 529118.00000 5004174.00000
SECONDARY_XY_ORIGIN: 529159.00000 5003959.00000
NATION: US
STATE: MT
NW_QUAD_CORNER_XY: 529459.18000 5003848.00900
NE_QUAD_CORNER_XY: 534369.04300 5003872.70600
SE_QUAD_CORNERY_XY: 534406.63400 4996929.55800
SW_QUAD_CORNER_XY: 529491.40100 4996904.86100
SECONDARY_NW_QUAD_XY: 529460.05300 5003630.65700
SECONDARY_NE_QUAD_XY: 534370.06100 5003655.35500
SECONDARY_SE_QUAD_XY: 534407.65200 4996712.26100
SECONDARY_SW_QUAD_XY: 529492.27400 4996687.56300
RMSE_XY: 1.80000
IMAGE_SOURCE: BLACK AND WHITE FILM
SOURCE_IMAGE_ID: NAPP 9105 14
SOURCE_IMAGE_DATE: 1996 8 1
SOURCE_DEM_DATE: 1973 00 00
AGENCY: ROCKY MOUNTAIN MAPPING CENTER (RMMC)
PRODUCER: ROCKY MOUNTAIN MAPPING CENTER (RMMC)
PRODUCTION_SYSTEM: DV2.6.4 1/00 OV2.6 6/00
COMPRESSION: UNDEFINED
STANDARD_VERSION: 1996 12
METADATA_DATE: 2001 11 16
DATA_FILE_SIZE: 42346234
BYTE_COUNT: 5591
