FILENAME: O4510451.NES.1167464.tif
QUADRANGLE_NAME: BLACK POINT
QUADRANT: NE
WEST_LONGITUDE: -104 41 15.00000
EAST_LONGITUDE: -104 37 30.00000
NORTH_LATITUDE: 45 15 0.00000
SOUTH_LATITUDE: 45 11 15.00000
PRODUCTION_DATE: 2001 11 16
RASTER_ORDER: LEFT_RIGHT/TOP_BOTTOM
BAND_ORGANIZATION: SINGLE FILE
BAND_CONTENT: BLACK&WHITE
BAND_CONTENT: UNDEFINED
BAND_CONTENT: UNDEFINED
BITS_PER_PIXEL: 8
SAMPLES_AND_LINES: 5580 7568
HORIZONTAL_DATUM: NAD83
HORIZONTAL_COORDINATE_SYSTEM: UTM
COORDINATE_ZONE: 13
HORIZONTAL_UNITS: METERS
HORIZONTAL_RESOLUTION: 1.00000
SECONDARY_HORIZONTAL_DATUM: NAD27
XY_ORIGIN: 524181.00000 5011092.00000
SECONDARY_XY_ORIGIN: 524222.00000 5010877.00000
NATION: US
STATE: MT
NW_QUAD_CORNER_XY: 524522.43700 5010770.33600
NE_QUAD_CORNER_XY: 529426.92400 5010791.23300
SE_QUAD_CORNERY_XY: 529459.18000 5003848.00900
SW_QUAD_CORNER_XY: 524549.31700 5003827.11100
SECONDARY_NW_QUAD_XY: 524523.16500 5010552.93100
SECONDARY_NE_QUAD_XY: 529427.79700 5010573.82900
SECONDARY_SE_QUAD_XY: 529460.05300 5003630.65700
SECONDARY_SW_QUAD_XY: 524550.04400 5003609.75900
RMSE_XY: 2.10000
IMAGE_SOURCE: BLACK AND WHITE FILM
SOURCE_IMAGE_ID: NAPP 9107 77
SOURCE_IMAGE_DATE: 1996 8 7
SOURCE_DEM_DATE: 1974 00 00
AGENCY: ROCKY MOUNTAIN MAPPING CENTER (RMMC)
PRODUCER: ROCKY MOUNTAIN MAPPING CENTER (RMMC)
PRODUCTION_SYSTEM: DV2.6.4 1/00 OV2.6 6/00
COMPRESSION: UNDEFINED
STANDARD_VERSION: 1996 12
METADATA_DATE: 2001 11 16
DATA_FILE_SIZE: 42235020
BYTE_COUNT: 5580
