FILENAME: O4510451.SES.1167466.tif
QUADRANGLE_NAME: BLACK POINT
QUADRANT: SE
WEST_LONGITUDE: -104 41 15.00000
EAST_LONGITUDE: -104 37 30.00000
NORTH_LATITUDE: 45 11 15.00000
SOUTH_LATITUDE: 45 7 30.00000
PRODUCTION_DATE: 2001 11 16
RASTER_ORDER: LEFT_RIGHT/TOP_BOTTOM
BAND_ORGANIZATION: SINGLE FILE
BAND_CONTENT: BLACK&WHITE
BAND_CONTENT: UNDEFINED
BAND_CONTENT: UNDEFINED
BITS_PER_PIXEL: 8
SAMPLES_AND_LINES: 5586 7569
HORIZONTAL_DATUM: NAD83
HORIZONTAL_COORDINATE_SYSTEM: UTM
COORDINATE_ZONE: 13
HORIZONTAL_UNITS: METERS
HORIZONTAL_RESOLUTION: 1.00000
SECONDARY_HORIZONTAL_DATUM: NAD27
XY_ORIGIN: 524207.00000 5004149.00000
SECONDARY_XY_ORIGIN: 524249.00000 5003934.00000
NATION: US
STATE: MT
NW_QUAD_CORNER_XY: 524549.31700 5003827.11100
NE_QUAD_CORNER_XY: 529459.18000 5003848.00900
SE_QUAD_CORNERY_XY: 529491.40100 4996904.86100
SW_QUAD_CORNER_XY: 524576.16700 4996883.96300
SECONDARY_NW_QUAD_XY: 524550.04400 5003609.75900
SECONDARY_NE_QUAD_XY: 529460.05300 5003630.65700
SECONDARY_SE_QUAD_XY: 529492.27400 4996687.56300
SECONDARY_SW_QUAD_XY: 524576.89500 4996666.66400
RMSE_XY: 1.50000
IMAGE_SOURCE: BLACK AND WHITE FILM
SOURCE_IMAGE_ID: NAPP 9107 75
SOURCE_IMAGE_DATE: 1996 8 7
SOURCE_DEM_DATE: 1974 00 00
AGENCY: ROCKY MOUNTAIN MAPPING CENTER (RMMC)
PRODUCER: ROCKY MOUNTAIN MAPPING CENTER (RMMC)
PRODUCTION_SYSTEM: DV2.6.4 1/00 OV2.6 6/00
COMPRESSION: UNDEFINED
STANDARD_VERSION: 1996 12
METADATA_DATE: 2001 11 16
DATA_FILE_SIZE: 42286020
BYTE_COUNT: 5586
