FILENAME: O4510450.NES.1167460.tif
QUADRANGLE_NAME: GREASY HILL
QUADRANT: NE
WEST_LONGITUDE: -104 48 45.00000
EAST_LONGITUDE: -104 45 0.00000
NORTH_LATITUDE: 45 15 0.00000
SOUTH_LATITUDE: 45 11 15.00000
PRODUCTION_DATE: 2001 11 16
RASTER_ORDER: LEFT_RIGHT/TOP_BOTTOM
BAND_ORGANIZATION: SINGLE FILE
BAND_CONTENT: BLACK&WHITE
BAND_CONTENT: UNDEFINED
BAND_CONTENT: UNDEFINED
BITS_PER_PIXEL: 8
SAMPLES_AND_LINES: 5570 7561
HORIZONTAL_DATUM: NAD83
HORIZONTAL_COORDINATE_SYSTEM: UTM
COORDINATE_ZONE: 13
HORIZONTAL_UNITS: METERS
HORIZONTAL_RESOLUTION: 1.00000
SECONDARY_HORIZONTAL_DATUM: NAD27
XY_ORIGIN: 514371.00000 5011054.00000
SECONDARY_XY_ORIGIN: 514412.61900 5010838.13200
NATION: US
STATE: MT
NW_QUAD_CORNER_XY: 514713.46200 5010739.94000
NE_QUAD_CORNER_XY: 519617.95000 5010753.23800
SE_QUAD_CORNERY_XY: 519639.45400 5003810.01300
SW_QUAD_CORNER_XY: 514729.59000 5003796.71500
SECONDARY_NW_QUAD_XY: 514713.89900 5010522.53400
SECONDARY_NE_QUAD_XY: 519618.53200 5010535.83200
SECONDARY_SE_QUAD_XY: 519640.03600 5003592.66000
SECONDARY_SW_QUAD_XY: 514730.02700 5003579.36200
RMSE_XY: 1.20000
IMAGE_SOURCE: BLACK AND WHITE FILM
SOURCE_IMAGE_ID: NAPP 9107 100
SOURCE_IMAGE_DATE: 1996 8 7
SOURCE_DEM_DATE: 1969 00 00
AGENCY: ROCKY MOUNTAIN MAPPING CENTER (RMMC)
PRODUCER: ROCKY MOUNTAIN MAPPING CENTER (RMMC)
PRODUCTION_SYSTEM: DV2.6.4 1/00 OV2.6 6/00
COMPRESSION: UNDEFINED
STANDARD_VERSION: 1996 12
METADATA_DATE: 2001 11 16
DATA_FILE_SIZE: 42120340
BYTE_COUNT: 5570
