FILENAME: O4510449.NWS.1167456.tif
QUADRANGLE_NAME: HAMMOND
QUADRANT: NW
WEST_LONGITUDE: -105 0 0.00000
EAST_LONGITUDE: -104 56 15.00000
NORTH_LATITUDE: 45 15 0.00000
SOUTH_LATITUDE: 45 11 15.00000
PRODUCTION_DATE: 2001 11 16
RASTER_ORDER: LEFT_RIGHT/TOP_BOTTOM
BAND_ORGANIZATION: SINGLE FILE
BAND_CONTENT: BLACK&WHITE
BAND_CONTENT: UNDEFINED
BAND_CONTENT: UNDEFINED
BITS_PER_PIXEL: 8
SAMPLES_AND_LINES: 5555 7550
HORIZONTAL_DATUM: NAD83
HORIZONTAL_COORDINATE_SYSTEM: UTM
COORDINATE_ZONE: 13
HORIZONTAL_UNITS: METERS
HORIZONTAL_RESOLUTION: 1.00000
SECONDARY_HORIZONTAL_DATUM: NAD27
XY_ORIGIN: 499657.00000 5011026.00000
SECONDARY_XY_ORIGIN: 499699.00000 5010810.00000
NATION: US
STATE: MT
NW_QUAD_CORNER_XY: 500000.00000 5010722.84200
NE_QUAD_CORNER_XY: 504904.48800 5010724.74200
SE_QUAD_CORNERY_XY: 504909.86300 5003781.51700
SW_QUAD_CORNER_XY: 500000.00000 5003779.61700
SECONDARY_NW_QUAD_XY: 500000.00000 5010505.43600
SECONDARY_NE_QUAD_XY: 504904.63300 5010507.33500
SECONDARY_SE_QUAD_XY: 504910.00900 5003564.16300
SECONDARY_SW_QUAD_XY: 500000.00000 5003562.26300
RMSE_XY: 1.60000
IMAGE_SOURCE: BLACK AND WHITE FILM
SOURCE_IMAGE_ID: NAPP 9117 122
SOURCE_IMAGE_DATE: 1996 8 27
SOURCE_DEM_DATE: 1969 00 00
AGENCY: ROCKY MOUNTAIN MAPPING CENTER (RMMC)
PRODUCER: ROCKY MOUNTAIN MAPPING CENTER (RMMC)
PRODUCTION_SYSTEM: DV2.6.4 1/00 OV2.6 6/00
COMPRESSION: UNDEFINED
STANDARD_VERSION: 1996 12
METADATA_DATE: 2001 11 16
DATA_FILE_SIZE: 41945805
BYTE_COUNT: 5555
