FILENAME: O4510449.SES.1167457.tif
QUADRANGLE_NAME: HAMMOND
QUADRANT: SE
WEST_LONGITUDE: -104 56 15.00000
EAST_LONGITUDE: -104 52 30.00000
NORTH_LATITUDE: 45 11 15.00000
SOUTH_LATITUDE: 45 7 30.00000
PRODUCTION_DATE: 2001 11 16
RASTER_ORDER: LEFT_RIGHT/TOP_BOTTOM
BAND_ORGANIZATION: SINGLE FILE
BAND_CONTENT: BLACK&WHITE
BAND_CONTENT: UNDEFINED
BAND_CONTENT: UNDEFINED
BITS_PER_PIXEL: 8
SAMPLES_AND_LINES: 5565 7553
HORIZONTAL_DATUM: NAD83
HORIZONTAL_COORDINATE_SYSTEM: UTM
COORDINATE_ZONE: 13
HORIZONTAL_UNITS: METERS
HORIZONTAL_RESOLUTION: 1.00000
SECONDARY_HORIZONTAL_DATUM: NAD27
XY_ORIGIN: 504567.00000 5004088.00000
SECONDARY_XY_ORIGIN: 504609.00000 5003873.00000
NATION: US
STATE: MT
NW_QUAD_CORNER_XY: 504909.86300 5003781.51700
NE_QUAD_CORNER_XY: 509819.72700 5003787.21600
SE_QUAD_CORNERY_XY: 509830.46700 4996844.06800
SW_QUAD_CORNER_XY: 504915.23400 4996838.36800
SECONDARY_NW_QUAD_XY: 504910.00900 5003564.16300
SECONDARY_NE_QUAD_XY: 509820.01800 5003569.86300
SECONDARY_SE_QUAD_XY: 509830.75800 4996626.76800
SECONDARY_SW_QUAD_XY: 504915.37900 4996621.06800
RMSE_XY: 1.40000
IMAGE_SOURCE: BLACK AND WHITE FILM
SOURCE_IMAGE_ID: NAPP 10722 101
SOURCE_IMAGE_DATE: 1997 8 25
SOURCE_DEM_DATE: 1969 00 00
AGENCY: ROCKY MOUNTAIN MAPPING CENTER (RMMC)
PRODUCER: ROCKY MOUNTAIN MAPPING CENTER (RMMC)
PRODUCTION_SYSTEM: DV2.6.4 1/00 OV2.6 6/00
COMPRESSION: UNDEFINED
STANDARD_VERSION: 1996 12
METADATA_DATE: 2001 11 16
DATA_FILE_SIZE: 42038010
BYTE_COUNT: 5565
