FILENAME: O4510447.NES.1167446.tif
QUADRANGLE_NAME: CACTUS CREEK WEST
QUADRANT: NE
WEST_LONGITUDE: -104 11 15.00000
EAST_LONGITUDE: -104 7 30.00000
NORTH_LATITUDE: 45 22 30.00000
SOUTH_LATITUDE: 45 18 45.00000
PRODUCTION_DATE: 2001 11 16
RASTER_ORDER: LEFT_RIGHT/TOP_BOTTOM
BAND_ORGANIZATION: SINGLE FILE
BAND_CONTENT: BLACK&WHITE
BAND_CONTENT: UNDEFINED
BAND_CONTENT: UNDEFINED
BITS_PER_PIXEL: 8
SAMPLES_AND_LINES: 5611 7599
HORIZONTAL_DATUM: NAD83
HORIZONTAL_COORDINATE_SYSTEM: UTM
COORDINATE_ZONE: 13
HORIZONTAL_UNITS: METERS
HORIZONTAL_RESOLUTION: 1.00000
SECONDARY_HORIZONTAL_DATUM: NAD27
XY_ORIGIN: 563278.00000 5025283.00000
SECONDARY_XY_ORIGIN: 563318.90400 5025066.84400
NATION: US
STATE: MT
NW_QUAD_CORNER_XY: 563618.31000 5024930.57300
NE_QUAD_CORNER_XY: 568512.02200 5024981.86800
SE_QUAD_CORNERY_XY: 568587.45500 5018038.49900
SW_QUAD_CORNER_XY: 563688.35400 5017987.20300
SECONDARY_NW_QUAD_XY: 563620.20300 5024713.07400
SECONDARY_NE_QUAD_XY: 568514.06000 5024764.37000
SECONDARY_SE_QUAD_XY: 568589.49300 5017821.05200
SECONDARY_SW_QUAD_XY: 563690.24700 5017769.75500
RMSE_XY: 1.60000
IMAGE_SOURCE: BLACK AND WHITE FILM
SOURCE_IMAGE_ID: NAPP 9095 23
SOURCE_IMAGE_DATE: 1996 7 9
SOURCE_DEM_DATE: 1972 00 00
AGENCY: ROCKY MOUNTAIN MAPPING CENTER (RMMC)
PRODUCER: ROCKY MOUNTAIN MAPPING CENTER (RMMC)
PRODUCTION_SYSTEM: DV2.6.4 1/00 OV2.6 6/00
COMPRESSION: UNDEFINED
STANDARD_VERSION: 1996 12
METADATA_DATE: 2001 11 16
DATA_FILE_SIZE: 42643600
BYTE_COUNT: 5611
