FILENAME: O4510446.NES.1167442.tif
QUADRANGLE_NAME: FINGER BUTTES EAST
QUADRANT: NE
WEST_LONGITUDE: -104 18 45.00000
EAST_LONGITUDE: -104 15 0.00000
NORTH_LATITUDE: 45 22 30.00000
SOUTH_LATITUDE: 45 18 45.00000
PRODUCTION_DATE: 2001 11 16
RASTER_ORDER: LEFT_RIGHT/TOP_BOTTOM
BAND_ORGANIZATION: SINGLE FILE
BAND_CONTENT: BLACK&WHITE
BAND_CONTENT: UNDEFINED
BAND_CONTENT: UNDEFINED
BITS_PER_PIXEL: 8
SAMPLES_AND_LINES: 5601 7591
HORIZONTAL_DATUM: NAD83
HORIZONTAL_COORDINATE_SYSTEM: UTM
COORDINATE_ZONE: 13
HORIZONTAL_UNITS: METERS
HORIZONTAL_RESOLUTION: 1.00000
SECONDARY_HORIZONTAL_DATUM: NAD27
XY_ORIGIN: 553490.00000 5025184.00000
SECONDARY_XY_ORIGIN: 553530.98600 5024967.80900
NATION: US
STATE: MT
NW_QUAD_CORNER_XY: 553830.88300 5024839.38500
NE_QUAD_CORNER_XY: 558724.59700 5024883.07900
SE_QUAD_CORNERY_XY: 558789.25300 5017939.70800
SW_QUAD_CORNER_XY: 553890.15100 5017896.01200
SECONDARY_NW_QUAD_XY: 553832.48500 5024621.88200
SECONDARY_NE_QUAD_XY: 558726.34400 5024665.57800
SECONDARY_SE_QUAD_XY: 558791.00000 5017722.25800
SECONDARY_SW_QUAD_XY: 553891.75200 5017678.56100
RMSE_XY: 1.70000
IMAGE_SOURCE: BLACK AND WHITE FILM
SOURCE_IMAGE_ID: NAPP 10724 41
SOURCE_IMAGE_DATE: 1997 8 30
SOURCE_DEM_DATE: 1972 00 00
AGENCY: ROCKY MOUNTAIN MAPPING CENTER (RMMC)
PRODUCER: ROCKY MOUNTAIN MAPPING CENTER (RMMC)
PRODUCTION_SYSTEM: DV2.6.4 1/00 OV2.6 6/00
COMPRESSION: UNDEFINED
STANDARD_VERSION: 1996 12
METADATA_DATE: 2001 11 16
DATA_FILE_SIZE: 42522792
BYTE_COUNT: 5601
