FILENAME: O4510446.NWS.1167443.tif
QUADRANGLE_NAME: FINGER BUTTES EAST
QUADRANT: NW
WEST_LONGITUDE: -104 22 30.00000
EAST_LONGITUDE: -104 18 45.00000
NORTH_LATITUDE: 45 22 30.00000
SOUTH_LATITUDE: 45 18 45.00000
PRODUCTION_DATE: 2001 11 16
RASTER_ORDER: LEFT_RIGHT/TOP_BOTTOM
BAND_ORGANIZATION: SINGLE FILE
BAND_CONTENT: BLACK&WHITE
BAND_CONTENT: UNDEFINED
BAND_CONTENT: UNDEFINED
BITS_PER_PIXEL: 8
SAMPLES_AND_LINES: 5595 7587
HORIZONTAL_DATUM: NAD83
HORIZONTAL_COORDINATE_SYSTEM: UTM
COORDINATE_ZONE: 13
HORIZONTAL_UNITS: METERS
HORIZONTAL_RESOLUTION: 1.00000
SECONDARY_HORIZONTAL_DATUM: NAD27
XY_ORIGIN: 548597.00000 5025140.00000
SECONDARY_XY_ORIGIN: 548638.02500 5024923.79300
NATION: US
STATE: MT
NW_QUAD_CORNER_XY: 548937.16900 5024799.49000
NE_QUAD_CORNER_XY: 553830.88300 5024839.38500
SE_QUAD_CORNERY_XY: 553890.15100 5017896.01200
SW_QUAD_CORNER_XY: 548991.04800 5017856.11700
SECONDARY_NW_QUAD_XY: 548938.62500 5024581.98700
SECONDARY_NE_QUAD_XY: 553832.48500 5024621.88200
SECONDARY_SE_QUAD_XY: 553891.75200 5017678.56100
SECONDARY_SW_QUAD_XY: 548992.50400 5017638.66400
RMSE_XY: 1.10000
IMAGE_SOURCE: BLACK AND WHITE FILM
SOURCE_IMAGE_ID: NAPP 10724 72
SOURCE_IMAGE_DATE: 1997 8 30
SOURCE_DEM_DATE: 1972 00 00
AGENCY: ROCKY MOUNTAIN MAPPING CENTER (RMMC)
PRODUCER: ROCKY MOUNTAIN MAPPING CENTER (RMMC)
PRODUCTION_SYSTEM: DV2.6.4 1/00 OV2.6 6/00
COMPRESSION: UNDEFINED
STANDARD_VERSION: 1996 12
METADATA_DATE: 2001 11 16
DATA_FILE_SIZE: 42454860
BYTE_COUNT: 5595
