FILENAME: O4510446.SWS.1167445.tif
QUADRANGLE_NAME: FINGER BUTTES EAST
QUADRANT: SW
WEST_LONGITUDE: -104 22 30.00000
EAST_LONGITUDE: -104 18 45.00000
NORTH_LATITUDE: 45 18 45.00000
SOUTH_LATITUDE: 45 15 0.00000
PRODUCTION_DATE: 2001 11 16
RASTER_ORDER: LEFT_RIGHT/TOP_BOTTOM
BAND_ORGANIZATION: SINGLE FILE
BAND_CONTENT: BLACK&WHITE
BAND_CONTENT: UNDEFINED
BAND_CONTENT: UNDEFINED
BITS_PER_PIXEL: 8
SAMPLES_AND_LINES: 5601 7588
HORIZONTAL_DATUM: NAD83
HORIZONTAL_COORDINATE_SYSTEM: UTM
COORDINATE_ZONE: 13
HORIZONTAL_UNITS: METERS
HORIZONTAL_RESOLUTION: 1.00000
SECONDARY_HORIZONTAL_DATUM: NAD27
XY_ORIGIN: 548650.00000 5018197.00000
SECONDARY_XY_ORIGIN: 548691.11200 5017980.97700
NATION: US
STATE: MT
NW_QUAD_CORNER_XY: 548991.04800 5017856.11700
NE_QUAD_CORNER_XY: 553890.15100 5017896.01200
SE_QUAD_CORNERY_XY: 553949.35400 5010952.71500
SW_QUAD_CORNER_XY: 549044.86800 5010912.81900
SECONDARY_NW_QUAD_XY: 548992.50400 5017638.66400
SECONDARY_NE_QUAD_XY: 553891.75200 5017678.56100
SECONDARY_SE_QUAD_XY: 553950.95500 5010735.31600
SECONDARY_SW_QUAD_XY: 549046.32400 5010695.41800
RMSE_XY: 1.20000
IMAGE_SOURCE: BLACK AND WHITE FILM
SOURCE_IMAGE_ID: NAPP 10724 70
SOURCE_IMAGE_DATE: 1997 8 30
SOURCE_DEM_DATE: 1972 00 00
AGENCY: ROCKY MOUNTAIN MAPPING CENTER (RMMC)
PRODUCER: ROCKY MOUNTAIN MAPPING CENTER (RMMC)
PRODUCTION_SYSTEM: DV2.6.4 1/00 OV2.6 6/00
COMPRESSION: UNDEFINED
STANDARD_VERSION: 1996 12
METADATA_DATE: 2001 11 16
DATA_FILE_SIZE: 42505989
BYTE_COUNT: 5601
