FILENAME: O4510445.NWS.1167432.tif
QUADRANGLE_NAME: FINGER BUTTES WEST
QUADRANT: NW
WEST_LONGITUDE: -104 30 0.00000
EAST_LONGITUDE: -104 26 15.00000
NORTH_LATITUDE: 45 22 30.00000
SOUTH_LATITUDE: 45 18 45.00000
PRODUCTION_DATE: 2001 11 16
RASTER_ORDER: LEFT_RIGHT/TOP_BOTTOM
BAND_ORGANIZATION: SINGLE FILE
BAND_CONTENT: BLACK&WHITE
BAND_CONTENT: UNDEFINED
BAND_CONTENT: UNDEFINED
BITS_PER_PIXEL: 8
SAMPLES_AND_LINES: 5585 7580
HORIZONTAL_DATUM: NAD83
HORIZONTAL_COORDINATE_SYSTEM: UTM
COORDINATE_ZONE: 13
HORIZONTAL_UNITS: METERS
HORIZONTAL_RESOLUTION: 1.00000
SECONDARY_HORIZONTAL_DATUM: NAD27
XY_ORIGIN: 538809.00000 5025064.00000
SECONDARY_XY_ORIGIN: 538850.10300 5024847.76200
NATION: US
STATE: MT
NW_QUAD_CORNER_XY: 539149.73800 5024731.10000
NE_QUAD_CORNER_XY: 544043.45400 5024763.39500
SE_QUAD_CORNERY_XY: 544091.94500 5017820.02100
SW_QUAD_CORNER_XY: 539192.84100 5017787.72600
SECONDARY_NW_QUAD_XY: 539150.90300 5024513.59500
SECONDARY_NE_QUAD_XY: 544044.76500 5024545.89100
SECONDARY_SE_QUAD_XY: 544093.25500 5017602.56800
SECONDARY_SW_QUAD_XY: 539194.00600 5017570.27100
RMSE_XY: 1.70000
IMAGE_SOURCE: BLACK AND WHITE FILM
SOURCE_IMAGE_ID: NAPP 10724 162
SOURCE_IMAGE_DATE: 1997 8 30
SOURCE_DEM_DATE: 1972 00 00
AGENCY: ROCKY MOUNTAIN MAPPING CENTER (RMMC)
PRODUCER: ROCKY MOUNTAIN MAPPING CENTER (RMMC)
PRODUCTION_SYSTEM: DV2.6.4 1/00 OV2.6 6/00
COMPRESSION: UNDEFINED
STANDARD_VERSION: 1996 12
METADATA_DATE: 2001 11 16
DATA_FILE_SIZE: 42339885
BYTE_COUNT: 5585
