FILENAME: O4510442.SES.1167416.tif
QUADRANGLE_NAME: PHILLIPPI RESERVOIR
QUADRANT: SE
WEST_LONGITUDE: -104 48 45.00000
EAST_LONGITUDE: -104 45 0.00000
NORTH_LATITUDE: 45 18 45.00000
SOUTH_LATITUDE: 45 15 0.00000
PRODUCTION_DATE: 2001 11 16
RASTER_ORDER: LEFT_RIGHT/TOP_BOTTOM
BAND_ORGANIZATION: SINGLE FILE
BAND_CONTENT: BLACK&WHITE
BAND_CONTENT: UNDEFINED
BAND_CONTENT: UNDEFINED
BITS_PER_PIXEL: 8
SAMPLES_AND_LINES: 5565 7562
HORIZONTAL_DATUM: NAD83
HORIZONTAL_COORDINATE_SYSTEM: UTM
COORDINATE_ZONE: 13
HORIZONTAL_UNITS: METERS
HORIZONTAL_RESOLUTION: 1.00000
SECONDARY_HORIZONTAL_DATUM: NAD27
XY_ORIGIN: 514355.00000 5017998.00000
SECONDARY_XY_ORIGIN: 514396.50600 5017781.92400
NATION: US
STATE: MT
NW_QUAD_CORNER_XY: 514697.31700 5017683.24100
NE_QUAD_CORNER_XY: 519596.42200 5017696.53800
SE_QUAD_CORNERY_XY: 519617.95000 5010753.23800
SW_QUAD_CORNER_XY: 514713.46200 5010739.94000
SECONDARY_NW_QUAD_XY: 514697.75400 5017465.78300
SECONDARY_NE_QUAD_XY: 519597.00500 5017479.08100
SECONDARY_SE_QUAD_XY: 519618.53200 5010535.83200
SECONDARY_SW_QUAD_XY: 514713.89900 5010522.53400
RMSE_XY: 1.00000
IMAGE_SOURCE: BLACK AND WHITE FILM
SOURCE_IMAGE_ID: NAPP 9107 98
SOURCE_IMAGE_DATE: 1996 8 7
SOURCE_DEM_DATE: 1973 00 00
AGENCY: ROCKY MOUNTAIN MAPPING CENTER (RMMC)
PRODUCER: ROCKY MOUNTAIN MAPPING CENTER (RMMC)
PRODUCTION_SYSTEM: DV2.6.4 1/00 OV2.6 6/00
COMPRESSION: UNDEFINED
STANDARD_VERSION: 1996 12
METADATA_DATE: 2001 11 16
DATA_FILE_SIZE: 42088095
BYTE_COUNT: 5565
