FILENAME: O4510442.SWS.1167417.tif
QUADRANGLE_NAME: PHILLIPPI RESERVOIR
QUADRANT: SW
WEST_LONGITUDE: -104 52 30.00000
EAST_LONGITUDE: -104 48 45.00000
NORTH_LATITUDE: 45 18 45.00000
SOUTH_LATITUDE: 45 15 0.00000
PRODUCTION_DATE: 2001 11 16
RASTER_ORDER: LEFT_RIGHT/TOP_BOTTOM
BAND_ORGANIZATION: SINGLE FILE
BAND_CONTENT: BLACK&WHITE
BAND_CONTENT: UNDEFINED
BAND_CONTENT: UNDEFINED
BITS_PER_PIXEL: 8
SAMPLES_AND_LINES: 5559 7557
HORIZONTAL_DATUM: NAD83
HORIZONTAL_COORDINATE_SYSTEM: UTM
COORDINATE_ZONE: 13
HORIZONTAL_UNITS: METERS
HORIZONTAL_RESOLUTION: 1.00000
SECONDARY_HORIZONTAL_DATUM: NAD27
XY_ORIGIN: 509456.00000 5017984.00000
SECONDARY_XY_ORIGIN: 509497.57900 5017767.92300
NATION: US
STATE: MT
NW_QUAD_CORNER_XY: 509798.21100 5017673.74200
NE_QUAD_CORNER_XY: 514697.31700 5017683.24100
SE_QUAD_CORNERY_XY: 514713.46200 5010739.94000
SW_QUAD_CORNER_XY: 509808.97500 5010730.44100
SECONDARY_NW_QUAD_XY: 509798.50300 5017456.28400
SECONDARY_NE_QUAD_XY: 514697.75400 5017465.78300
SECONDARY_SE_QUAD_XY: 514713.89900 5010522.53400
SECONDARY_SW_QUAD_XY: 509809.26600 5010513.03500
RMSE_XY: 1.50000
IMAGE_SOURCE: BLACK AND WHITE FILM
SOURCE_IMAGE_ID: NAPP 10762 66
SOURCE_IMAGE_DATE: 1997 9 5
SOURCE_DEM_DATE: 1973 00 00
AGENCY: ROCKY MOUNTAIN MAPPING CENTER (RMMC)
PRODUCER: ROCKY MOUNTAIN MAPPING CENTER (RMMC)
PRODUCTION_SYSTEM: DV2.6.4 1/00 OV2.6 6/00
COMPRESSION: UNDEFINED
STANDARD_VERSION: 1996 12
METADATA_DATE: 2001 11 16
DATA_FILE_SIZE: 42014922
BYTE_COUNT: 5559
