FILENAME: O4510441.NES.1167409.tif
QUADRANGLE_NAME: KNUDSON DRAW
QUADRANT: NE
WEST_LONGITUDE: -104 56 15.00000
EAST_LONGITUDE: -104 52 30.00000
NORTH_LATITUDE: 45 22 30.00000
SOUTH_LATITUDE: 45 18 45.00000
PRODUCTION_DATE: 2001 11 16
RASTER_ORDER: LEFT_RIGHT/TOP_BOTTOM
BAND_ORGANIZATION: SINGLE FILE
BAND_CONTENT: BLACK&WHITE
BAND_CONTENT: UNDEFINED
BAND_CONTENT: UNDEFINED
BITS_PER_PIXEL: 8
SAMPLES_AND_LINES: 5549 7553
HORIZONTAL_DATUM: NAD83
HORIZONTAL_COORDINATE_SYSTEM: UTM
COORDINATE_ZONE: 13
HORIZONTAL_UNITS: METERS
HORIZONTAL_RESOLUTION: 1.00000
SECONDARY_HORIZONTAL_DATUM: NAD27
XY_ORIGIN: 504551.00000 5024918.00000
SECONDARY_XY_ORIGIN: 504592.53500 5024701.68900
NATION: US
STATE: MT
NW_QUAD_CORNER_XY: 504893.71800 5024611.42000
NE_QUAD_CORNER_XY: 509787.43600 5024617.11900
SE_QUAD_CORNERY_XY: 509798.21100 5017673.74200
SW_QUAD_CORNER_XY: 504899.10600 5017668.04300
SECONDARY_NW_QUAD_XY: 504893.86400 5024393.91100
SECONDARY_NE_QUAD_XY: 509787.72700 5024399.61100
SECONDARY_SE_QUAD_XY: 509798.50300 5017456.28400
SECONDARY_SW_QUAD_XY: 504899.25100 5017450.58500
RMSE_XY: 2.40000
IMAGE_SOURCE: BLACK AND WHITE FILM
SOURCE_IMAGE_ID: NAPP 10722 107
SOURCE_IMAGE_DATE: 1997 8 25
SOURCE_DEM_DATE: 1974 00 00
AGENCY: ROCKY MOUNTAIN MAPPING CENTER (RMMC)
PRODUCER: ROCKY MOUNTAIN MAPPING CENTER (RMMC)
PRODUCTION_SYSTEM: DV2.6.4 1/00 OV2.6 6/00
COMPRESSION: UNDEFINED
STANDARD_VERSION: 1996 12
METADATA_DATE: 2001 11 16
DATA_FILE_SIZE: 41917146
BYTE_COUNT: 5549
