FILENAME: O4510441.NWS.1167410.tif
QUADRANGLE_NAME: KNUDSON DRAW
QUADRANT: NW
WEST_LONGITUDE: -105 0 0.00000
EAST_LONGITUDE: -104 56 15.00000
NORTH_LATITUDE: 45 22 30.00000
SOUTH_LATITUDE: 45 18 45.00000
PRODUCTION_DATE: 2001 11 16
RASTER_ORDER: LEFT_RIGHT/TOP_BOTTOM
BAND_ORGANIZATION: SINGLE FILE
BAND_CONTENT: BLACK&WHITE
BAND_CONTENT: UNDEFINED
BAND_CONTENT: UNDEFINED
BITS_PER_PIXEL: 8
SAMPLES_AND_LINES: 5544 7549
HORIZONTAL_DATUM: NAD83
HORIZONTAL_COORDINATE_SYSTEM: UTM
COORDINATE_ZONE: 13
HORIZONTAL_UNITS: METERS
HORIZONTAL_RESOLUTION: 1.00000
SECONDARY_HORIZONTAL_DATUM: NAD27
XY_ORIGIN: 499657.00000 5024912.00000
SECONDARY_XY_ORIGIN: 499698.60700 5024695.67200
NATION: US
STATE: MT
NW_QUAD_CORNER_XY: 500000.00000 5024609.52100
NE_QUAD_CORNER_XY: 504893.71800 5024611.42000
SE_QUAD_CORNERY_XY: 504899.10600 5017668.04300
SW_QUAD_CORNER_XY: 500000.00000 5017666.14300
SECONDARY_NW_QUAD_XY: 500000.00000 5024392.01200
SECONDARY_NE_QUAD_XY: 504893.86400 5024393.91100
SECONDARY_SE_QUAD_XY: 504899.25100 5017450.58500
SECONDARY_SW_QUAD_XY: 500000.00000 5017448.68500
RMSE_XY: 1.20000
IMAGE_SOURCE: BLACK AND WHITE FILM
SOURCE_IMAGE_ID: NAPP 9117 118
SOURCE_IMAGE_DATE: 1996 8 27
SOURCE_DEM_DATE: 1974 00 00
AGENCY: ROCKY MOUNTAIN MAPPING CENTER (RMMC)
PRODUCER: ROCKY MOUNTAIN MAPPING CENTER (RMMC)
PRODUCTION_SYSTEM: DV2.6.4 1/00 OV2.6 6/00
COMPRESSION: UNDEFINED
STANDARD_VERSION: 1996 12
METADATA_DATE: 2001 11 16
DATA_FILE_SIZE: 41857200
BYTE_COUNT: 5544
