FILENAME: O4510441.SES.1167411.tif
QUADRANGLE_NAME: KNUDSON DRAW
QUADRANT: SE
WEST_LONGITUDE: -104 56 15.00000
EAST_LONGITUDE: -104 52 30.00000
NORTH_LATITUDE: 45 18 45.00000
SOUTH_LATITUDE: 45 15 0.00000
PRODUCTION_DATE: 2001 11 16
RASTER_ORDER: LEFT_RIGHT/TOP_BOTTOM
BAND_ORGANIZATION: SINGLE FILE
BAND_CONTENT: BLACK&WHITE
BAND_CONTENT: UNDEFINED
BAND_CONTENT: UNDEFINED
BITS_PER_PIXEL: 8
SAMPLES_AND_LINES: 5554 7554
HORIZONTAL_DATUM: NAD83
HORIZONTAL_COORDINATE_SYSTEM: UTM
COORDINATE_ZONE: 13
HORIZONTAL_UNITS: METERS
HORIZONTAL_RESOLUTION: 1.00000
SECONDARY_HORIZONTAL_DATUM: NAD27
XY_ORIGIN: 504557.00000 5017975.00000
SECONDARY_XY_ORIGIN: 504598.65300 5017758.92100
NATION: US
STATE: MT
NW_QUAD_CORNER_XY: 504899.10600 5017668.04300
NE_QUAD_CORNER_XY: 509798.21100 5017673.74200
SE_QUAD_CORNERY_XY: 509808.97500 5010730.44100
SW_QUAD_CORNER_XY: 504904.48800 5010724.74200
SECONDARY_NW_QUAD_XY: 504899.25100 5017450.58500
SECONDARY_NE_QUAD_XY: 509798.50300 5017456.28400
SECONDARY_SE_QUAD_XY: 509809.26600 5010513.03500
SECONDARY_SW_QUAD_XY: 504904.63300 5010507.33500
RMSE_XY: 1.30000
IMAGE_SOURCE: BLACK AND WHITE FILM
SOURCE_IMAGE_ID: NAPP 10722 105
SOURCE_IMAGE_DATE: 1997 8 25
SOURCE_DEM_DATE: 1974 00 00
AGENCY: ROCKY MOUNTAIN MAPPING CENTER (RMMC)
PRODUCER: ROCKY MOUNTAIN MAPPING CENTER (RMMC)
PRODUCTION_SYSTEM: DV2.6.4 1/00 OV2.6 6/00
COMPRESSION: UNDEFINED
STANDARD_VERSION: 1996 12
METADATA_DATE: 2001 11 16
DATA_FILE_SIZE: 41960470
BYTE_COUNT: 5554
